BEGIN:VCALENDAR
VERSION:2.0
PRODID:-//Municipalité de Roxton Pond - ECPv5.9.2//NONSGML v1.0//EN
CALSCALE:GREGORIAN
METHOD:PUBLISH
X-WR-CALNAME:Municipalité de Roxton Pond
X-ORIGINAL-URL:https://www.roxtonpond.ca
X-WR-CALDESC:évènements pour Municipalité de Roxton Pond
BEGIN:VTIMEZONE
TZID:America/Toronto
BEGIN:DAYLIGHT
TZOFFSETFROM:-0500
TZOFFSETTO:-0400
TZNAME:EDT
DTSTART:20250309T070000
END:DAYLIGHT
BEGIN:STANDARD
TZOFFSETFROM:-0400
TZOFFSETTO:-0500
TZNAME:EST
DTSTART:20251102T060000
END:STANDARD
END:VTIMEZONE
BEGIN:VEVENT
DTSTART;VALUE=DATE:20250607
DTEND;VALUE=DATE:20250608
DTSTAMP:20260419T130541
CREATED:20250514T150911Z
LAST-MODIFIED:20250514T152453Z
UID:8830-1749254400-1749340799@www.roxtonpond.ca
SUMMARY:La Fête des Voisins
DESCRIPTION:Formulaire d’inscription (N’oubliez pas de l’enregistrer et de l’envoyer par courriel) \nLe samedi 7 juin 2025\, profitez de la Fête des Voisins pour aller à la rencontre des résidents de votre quartier! Il s’agit d’un événement où la participation citoyenne est au cœur du bon déroulement des activités. VOUS êtes les ORGANISATEURS de votre fête de quartier!\n…….\nQue ce soit dans un parc\, dans la rue ou sur un terrain résidentiel\, inscrivez votre rassemblement en envoyant le formulaire par courriel à evenements@roxtonpond.ca AVANT le 29 mai et courrez la chance de gagner un jeu gonflable pour la journée!\n…….\nPas besoin de réinventer la roue : Bonne bouffe\, bonne musique\, bonne compagnie! N’hésitez pas à consulter vos voisins.
URL:https://www.roxtonpond.ca/evenement/la-fete-des-voisins/
CATEGORIES:Loisirs et culture
ATTACH;FMTTYPE=image/png:https://www.roxtonpond.ca/wp-content/uploads/2025/05/La-Fete-des-Voisins-2025-FACEBOOK-e1747232575251.png
END:VEVENT
END:VCALENDAR