BEGIN:VCALENDAR
VERSION:2.0
PRODID:-//Municipalité de Roxton Pond - ECPv5.9.2//NONSGML v1.0//EN
CALSCALE:GREGORIAN
METHOD:PUBLISH
X-WR-CALNAME:Municipalité de Roxton Pond
X-ORIGINAL-URL:https://www.roxtonpond.ca
X-WR-CALDESC:évènements pour Municipalité de Roxton Pond
BEGIN:VTIMEZONE
TZID:America/Toronto
BEGIN:DAYLIGHT
TZOFFSETFROM:-0500
TZOFFSETTO:-0400
TZNAME:EDT
DTSTART:20240310T070000
END:DAYLIGHT
BEGIN:STANDARD
TZOFFSETFROM:-0400
TZOFFSETTO:-0500
TZNAME:EST
DTSTART:20241103T060000
END:STANDARD
END:VTIMEZONE
BEGIN:VEVENT
DTSTART;TZID=America/Toronto:20241214T130000
DTEND;TZID=America/Toronto:20241214T140000
DTSTAMP:20260423T135738
CREATED:20241119T153307Z
LAST-MODIFIED:20241119T153518Z
UID:7728-1734181200-1734184800@www.roxtonpond.ca
SUMMARY:Heure du conte
DESCRIPTION:Le samedi 14 décembre\, venez assister à la lecture de La licorne de Noël à la Bibliothèque municipale de Roxton Pond\, de 13 h à 14 h. Vous pourrez du même coup rencontrer le Père-Noël\, qui sera très heureux de vous raconter ce qui s’est déroulé au Pôle Nord dernièrement…🎅
URL:https://www.roxtonpond.ca/evenement/heure-du-conte-2/
LOCATION:Bibliothèque municipale\, 874\, rue Principale\, Roxton Pond\, Québec\, J0E 1Z0\, Canada
CATEGORIES:Loisirs et culture
ATTACH;FMTTYPE=image/png:https://www.roxtonpond.ca/wp-content/uploads/2024/11/Heure-du-conte-14-12-24-WEB-e1732030374286.png
ORGANIZER;CN="Biblioth%C3%A8que%20municipale%20de%20Roxton%20Pond":MAILTO:bibliotheque@roxtonpond.ca
END:VEVENT
END:VCALENDAR