BEGIN:VCALENDAR
VERSION:2.0
PRODID:-//Municipalité de Roxton Pond - ECPv5.9.2//NONSGML v1.0//EN
CALSCALE:GREGORIAN
METHOD:PUBLISH
X-WR-CALNAME:Municipalité de Roxton Pond
X-ORIGINAL-URL:https://www.roxtonpond.ca
X-WR-CALDESC:évènements pour Municipalité de Roxton Pond
BEGIN:VTIMEZONE
TZID:Europe/Paris
BEGIN:DAYLIGHT
TZOFFSETFROM:+0100
TZOFFSETTO:+0200
TZNAME:CEST
DTSTART:20210328T010000
END:DAYLIGHT
BEGIN:STANDARD
TZOFFSETFROM:+0200
TZOFFSETTO:+0100
TZNAME:CET
DTSTART:20211031T010000
END:STANDARD
BEGIN:DAYLIGHT
TZOFFSETFROM:+0100
TZOFFSETTO:+0200
TZNAME:CEST
DTSTART:20220327T010000
END:DAYLIGHT
BEGIN:STANDARD
TZOFFSETFROM:+0200
TZOFFSETTO:+0100
TZNAME:CET
DTSTART:20221030T010000
END:STANDARD
END:VTIMEZONE
BEGIN:VEVENT
DTSTART;TZID=Europe/Paris:20211223T120000
DTEND;TZID=Europe/Paris:20220103T163000
DTSTAMP:20260425T182313
CREATED:20211209T065932Z
LAST-MODIFIED:20211209T065932Z
UID:2736-1640260800-1641227400@www.roxtonpond.ca
SUMMARY:Fermeture des bureaux municipaux
DESCRIPTION:Les services municipaux seront fermés pour la période des fêtes\, soit du 23 décembre 2021 à midi au 3 janvier 2022 inclusivement. \n  \nDe retour le 4 janvier 2022 à 8h30. \n  \nBon temps des fêtes!
URL:https://www.roxtonpond.ca/evenement/fermeture-des-bureaux-municipaux/
END:VEVENT
END:VCALENDAR