BEGIN:VCALENDAR
VERSION:2.0
PRODID:-//Municipalité de Roxton Pond - ECPv5.9.2//NONSGML v1.0//EN
CALSCALE:GREGORIAN
METHOD:PUBLISH
X-WR-CALNAME:Municipalité de Roxton Pond
X-ORIGINAL-URL:https://www.roxtonpond.ca
X-WR-CALDESC:évènements pour Municipalité de Roxton Pond
BEGIN:VTIMEZONE
TZID:Europe/Paris
BEGIN:DAYLIGHT
TZOFFSETFROM:+0100
TZOFFSETTO:+0200
TZNAME:CEST
DTSTART:20210328T010000
END:DAYLIGHT
BEGIN:STANDARD
TZOFFSETFROM:+0200
TZOFFSETTO:+0100
TZNAME:CET
DTSTART:20211031T010000
END:STANDARD
END:VTIMEZONE
BEGIN:VEVENT
DTSTART;VALUE=DATE:20210921
DTEND;VALUE=DATE:20210922
DTSTAMP:20260420T075818
CREATED:20210916T000848Z
LAST-MODIFIED:20210916T001228Z
UID:1594-1632182400-1632268799@www.roxtonpond.ca
SUMMARY:Collecte de sang (sur rendez-vous)
DESCRIPTION:Mardi\, le 21 septembre \nau centre communautaire de Roxton Pond au 905\, rue St-Jean \nSur rendez-vous seulement : \n1 800 343-7264 \njedonne@hema-quebec.qc.ca
URL:https://www.roxtonpond.ca/evenement/collecte-de-sang/
END:VEVENT
END:VCALENDAR