BEGIN:VCALENDAR
VERSION:2.0
PRODID:-//Municipalité de Roxton Pond - ECPv5.9.2//NONSGML v1.0//EN
CALSCALE:GREGORIAN
METHOD:PUBLISH
X-WR-CALNAME:Municipalité de Roxton Pond
X-ORIGINAL-URL:https://www.roxtonpond.ca
X-WR-CALDESC:évènements pour Municipalité de Roxton Pond
BEGIN:VTIMEZONE
TZID:America/Toronto
BEGIN:DAYLIGHT
TZOFFSETFROM:-0500
TZOFFSETTO:-0400
TZNAME:EDT
DTSTART:20240310T070000
END:DAYLIGHT
BEGIN:STANDARD
TZOFFSETFROM:-0400
TZOFFSETTO:-0500
TZNAME:EST
DTSTART:20241103T060000
END:STANDARD
END:VTIMEZONE
BEGIN:VEVENT
DTSTART;TZID=America/Toronto:20240302T100000
DTEND;TZID=America/Toronto:20240302T160000
DTSTAMP:20260423T233916
CREATED:20240202T154425Z
LAST-MODIFIED:20240212T211317Z
UID:6345-1709373600-1709395200@www.roxtonpond.ca
SUMMARY:CARNAVAL DES NEIGES
DESCRIPTION:Pour bien commencer la semaine de relâche scolaire\, viens célébrer l’hiver avec nous au parc des Sports\, le 2 mars\, de 10 h à 16 h! Plusieurs activités seront offertes pour toute la famille et la fondation Un souffle et des ailes opérera une cantine pour vos petites fringales. 🤩 \n\n\nÀ l’horaire\, il y aura des lectures de contes\, un bar à chocolat chaud\, une butte de glisse (si dame nature nous le permet) et plusieurs jeux géants qui plairont aux petits et aux grands! \n \nNous aurons besoin de quelques bénévoles pour nous aider dans le déroulement de la journée. Si tu es intéressé.e à offrir de ton temps\, contacte EVENEMENTS@ROXTONPOND.CA. \n\nViens lâcher ton fou sous l’igloo!❄️
URL:https://www.roxtonpond.ca/evenement/carnaval-des-neiges/
LOCATION:Parc des Sports\, 70\, rue Gareau\, Roxton Pond\, Québec\, J0E 1Z0\, Canada
CATEGORIES:Loisirs et culture
ATTACH;FMTTYPE=image/png:https://www.roxtonpond.ca/wp-content/uploads/2024/02/Carnaval-des-neiges-Site-Web-e1706889056188.png
END:VEVENT
END:VCALENDAR