BEGIN:VCALENDAR
VERSION:2.0
PRODID:-//Municipalité de Roxton Pond - ECPv5.9.2//NONSGML v1.0//EN
CALSCALE:GREGORIAN
METHOD:PUBLISH
X-WR-CALNAME:Municipalité de Roxton Pond
X-ORIGINAL-URL:https://www.roxtonpond.ca
X-WR-CALDESC:évènements pour Municipalité de Roxton Pond
BEGIN:VTIMEZONE
TZID:America/Toronto
BEGIN:DAYLIGHT
TZOFFSETFROM:-0500
TZOFFSETTO:-0400
TZNAME:EDT
DTSTART:20250309T070000
END:DAYLIGHT
BEGIN:STANDARD
TZOFFSETFROM:-0400
TZOFFSETTO:-0500
TZNAME:EST
DTSTART:20251102T060000
END:STANDARD
END:VTIMEZONE
BEGIN:VEVENT
DTSTART;TZID=America/Toronto:20250902T193000
DTEND;TZID=America/Toronto:20250902T210000
DTSTAMP:20260419T165900
CREATED:20250403T143522Z
LAST-MODIFIED:20260120T154510Z
UID:8556-1756841400-1756846800@www.roxtonpond.ca
SUMMARY:Séances du Conseil
DESCRIPTION:Nous vous invitons à venir assister aux séances du conseil municipal qui se déroulent le 1er mardi de chaque mois\, à compter de 19 h 30 à la salle du Conseil\, située à l’hôtel de ville de Roxton Pond (901\, rue Saint-Jean). Toute la population est invitée à y prendre part. \nCalendrier des séances 2026
URL:https://www.roxtonpond.ca/evenement/seances-du-conseil/2025-09-02/
LOCATION:Hôtel de ville\, 901\, rue Saint-Jean\, Roxton Pond\, Québec\, J0E 1Z0\, Canada
CATEGORIES:Séance du conseil
ATTACH;FMTTYPE=image/png:https://www.roxtonpond.ca/wp-content/uploads/2023/11/Seance-du-Conseil-e1700753076210.png
END:VEVENT
BEGIN:VEVENT
DTSTART;TZID=America/Toronto:20250906T090000
DTEND;TZID=America/Toronto:20250906T123000
DTSTAMP:20260419T165900
CREATED:20250711T153636Z
LAST-MODIFIED:20250711T154022Z
UID:9269-1757149200-1757161800@www.roxtonpond.ca
SUMMARY:TOUR DU LAC 2025
DESCRIPTION:L’événement du Tour du lac revient pour une 3e année à Roxton Pond! \nUn parcours de course à pied pour découvrir la Municipalité et profiter du grand air\, beau temps\, mauvais temps. \nCette année\, tout le monde se rejoint au Centre nautique de Roxton Pond\, situé au 2069\, av. du Lac Ouest\, pour la prise des présence et la remise des dossards. \n📍Les deux départs se feront à 10 h. Le départ du 10 km se fera à même la plage du Centre nautique\, tandis que les participants inscrits au parcours du 5 km seront transportés en autobus jusqu’à l’école de Roxton Pond pour leur départ. La ligne d’arrivée des deux parcours se trouvera au Centre nautique.\n‼️Les participants du 5 km devront arriver au plus tard à 9 h 30 au Centre nautique. L’autobus partira pour l’école vers 9 h 40. \nUne médaille sera remise aux 3 gagnants·es de chaque parcours\, chez les hommes et chez les femmes. \nInscrivez-vous gratuitement au parcours de 5 km ou de 10 km à partir du 4 août 2025! \nAu plaisir de vous y voir!
URL:https://www.roxtonpond.ca/evenement/tour-du-lac-2025/
LOCATION:Plage municipale de Roxton Pond\, 2069\, avenue du Lac Ouest\, Roxton Pond\, Québec\, J0E 1Z0\, Canada
CATEGORIES:Loisirs et culture
ATTACH;FMTTYPE=image/png:https://www.roxtonpond.ca/wp-content/uploads/2025/07/Tour-du-lac-2025-WEB-e1752246563859.png
END:VEVENT
BEGIN:VEVENT
DTSTART;TZID=America/Toronto:20250919T180000
DTEND;TZID=America/Toronto:20250919T203000
DTSTAMP:20260419T165900
CREATED:20250711T162831Z
LAST-MODIFIED:20250711T162831Z
UID:9282-1758304800-1758313800@www.roxtonpond.ca
SUMMARY:Soirée Bingo
DESCRIPTION:Joignez-vous à nous le vendredi 19 septembre 2025 pour la troisième édition de la Soirée Bingo à Roxton Pond!\n\nLes cartes seront en vente au coût de 10$ pour 6 à partir du 2 septembre. Vous pourrez vous les procurer à l’hôtel de ville\, à la Bibliothèque municipale de Roxton Pond ou directement à la porte le soir de l’événement\, en argent comptant.\n\n\n\nLes portes du centre communautaire ouvriront à 18 h et les jeux commenceront vers 18 h 30. Un minimum de 4 jeux seront présentés par notre animateur et un prix monétaire sera gagné à chacun des tours. Apportez vos marqueurs! \n\n\n\nIl y aura un service de bar sur place\, où vous pourrez vous procurer différents types de boissons avec et sans alcool. Du popcorn sera également offert gratuitement! Notez que tous les achats se feront en argent comptant seulement. \n\n\n\nLes sous amassés seront déposés dans le fond communautaire.\n\n\n\nInvitez vos amis!
URL:https://www.roxtonpond.ca/evenement/soiree-bingo-3/
LOCATION:Québec
CATEGORIES:Loisirs et culture
ATTACH;FMTTYPE=image/png:https://www.roxtonpond.ca/wp-content/uploads/2025/07/Bingo-septembre-2025-WEB-e1752251300299.png
END:VEVENT
END:VCALENDAR