BEGIN:VCALENDAR
VERSION:2.0
PRODID:-//Municipalité de Roxton Pond - ECPv5.9.2//NONSGML v1.0//EN
CALSCALE:GREGORIAN
METHOD:PUBLISH
X-WR-CALNAME:Municipalité de Roxton Pond
X-ORIGINAL-URL:https://www.roxtonpond.ca
X-WR-CALDESC:évènements pour Municipalité de Roxton Pond
BEGIN:VTIMEZONE
TZID:America/Toronto
BEGIN:DAYLIGHT
TZOFFSETFROM:-0500
TZOFFSETTO:-0400
TZNAME:EDT
DTSTART:20250309T070000
END:DAYLIGHT
BEGIN:STANDARD
TZOFFSETFROM:-0400
TZOFFSETTO:-0500
TZNAME:EST
DTSTART:20251102T060000
END:STANDARD
END:VTIMEZONE
BEGIN:VEVENT
DTSTART;TZID=America/Toronto:20250701T193000
DTEND;TZID=America/Toronto:20250701T210000
DTSTAMP:20260419T142123
CREATED:20250403T143522Z
LAST-MODIFIED:20260120T154509Z
UID:10160-1751398200-1751403600@www.roxtonpond.ca
SUMMARY:Séances du Conseil
DESCRIPTION:Nous vous invitons à venir assister aux séances du conseil municipal qui se déroulent le 1er mardi de chaque mois\, à compter de 19 h 30 à la salle du Conseil\, située à l’hôtel de ville de Roxton Pond (901\, rue Saint-Jean). Toute la population est invitée à y prendre part. \nCalendrier des séances 2026
URL:https://www.roxtonpond.ca/evenement/seances-du-conseil/2025-07-01/
LOCATION:Hôtel de ville\, 901\, rue Saint-Jean\, Roxton Pond\, Québec\, J0E 1Z0\, Canada
CATEGORIES:Séance du conseil
ATTACH;FMTTYPE=image/png:https://www.roxtonpond.ca/wp-content/uploads/2023/11/Seance-du-Conseil-e1700753076210.png
END:VEVENT
BEGIN:VEVENT
DTSTART;TZID=America/Toronto:20250708T193000
DTEND;TZID=America/Toronto:20250708T210000
DTSTAMP:20260419T142123
CREATED:20250403T143522Z
LAST-MODIFIED:20260120T154509Z
UID:8554-1752003000-1752008400@www.roxtonpond.ca
SUMMARY:Séances du Conseil
DESCRIPTION:Nous vous invitons à venir assister aux séances du conseil municipal qui se déroulent le 1er mardi de chaque mois\, à compter de 19 h 30 à la salle du Conseil\, située à l’hôtel de ville de Roxton Pond (901\, rue Saint-Jean). Toute la population est invitée à y prendre part. \nCalendrier des séances 2026
URL:https://www.roxtonpond.ca/evenement/seances-du-conseil/2025-07-08/
LOCATION:Hôtel de ville\, 901\, rue Saint-Jean\, Roxton Pond\, Québec\, J0E 1Z0\, Canada
CATEGORIES:Séance du conseil
ATTACH;FMTTYPE=image/png:https://www.roxtonpond.ca/wp-content/uploads/2023/11/Seance-du-Conseil-e1700753076210.png
END:VEVENT
BEGIN:VEVENT
DTSTART;TZID=America/Toronto:20250712T100000
DTEND;TZID=America/Toronto:20250712T160000
DTSTAMP:20260419T142123
CREATED:20250609T135419Z
LAST-MODIFIED:20250709T172517Z
UID:8927-1752314400-1752336000@www.roxtonpond.ca
SUMMARY:Festival VIVRE
DESCRIPTION:✨ Festival VIVRE – 2e édition ✨ \nNous sommes heureux de vous inviter à la 2e édition du Festival VIVRE\, qui aura lieu le samedi 12 juillet 2025\, au Centre nautique de Roxton Pond (2069\, avenue du Lac Ouest)! \nVenez profiter d’une journée exceptionnelle de découvertes\, d’activités et d’ateliers gratuits autour de la santé et du bien-être\, pensés pour toute la famille. Joignez-vous à nous pour : \n\n🌿 Des ateliers inspirants\n🌿 Des activités pour petits et grands\n🌿 Une ambiance chaleureuse et festive\n\n \nDe plus\, La Braoule sera sur place avec son camion de rue pour vous régaler de délicieux lunchs et collations toute la journée! \nPlan des stationnements\nNos exposants\nMenu Braoule \nAu plaisir de vous voir nombreux pour célébrer la santé et la vitalité à Roxton Pond! 🌿✨
URL:https://www.roxtonpond.ca/evenement/festival-vivre-2/
LOCATION:Plage municipale de Roxton Pond\, 2069\, avenue du Lac Ouest\, Roxton Pond\, Québec\, J0E 1Z0\, Canada
CATEGORIES:Loisirs et culture
ATTACH;FMTTYPE=image/png:https://www.roxtonpond.ca/wp-content/uploads/2025/06/Festival-VIVRE-2025-WEB-e1749473127565.png
END:VEVENT
END:VCALENDAR