BEGIN:VCALENDAR
VERSION:2.0
PRODID:-//Municipalité de Roxton Pond - ECPv5.9.2//NONSGML v1.0//EN
CALSCALE:GREGORIAN
METHOD:PUBLISH
X-WR-CALNAME:Municipalité de Roxton Pond
X-ORIGINAL-URL:https://www.roxtonpond.ca
X-WR-CALDESC:évènements pour Municipalité de Roxton Pond
BEGIN:VTIMEZONE
TZID:America/Toronto
BEGIN:DAYLIGHT
TZOFFSETFROM:-0500
TZOFFSETTO:-0400
TZNAME:EDT
DTSTART:20260308T070000
END:DAYLIGHT
BEGIN:STANDARD
TZOFFSETFROM:-0400
TZOFFSETTO:-0500
TZNAME:EST
DTSTART:20261101T060000
END:STANDARD
END:VTIMEZONE
BEGIN:VEVENT
DTSTART;TZID=America/Toronto:20260602T193000
DTEND;TZID=America/Toronto:20260602T210000
DTSTAMP:20260419T141850
CREATED:20250403T143522Z
LAST-MODIFIED:20260120T154516Z
UID:10168-1780428600-1780434000@www.roxtonpond.ca
SUMMARY:Séances du Conseil
DESCRIPTION:Nous vous invitons à venir assister aux séances du conseil municipal qui se déroulent le 1er mardi de chaque mois\, à compter de 19 h 30 à la salle du Conseil\, située à l’hôtel de ville de Roxton Pond (901\, rue Saint-Jean). Toute la population est invitée à y prendre part. \nCalendrier des séances 2026
URL:https://www.roxtonpond.ca/evenement/seances-du-conseil/2026-06-02/
LOCATION:Hôtel de ville\, 901\, rue Saint-Jean\, Roxton Pond\, Québec\, J0E 1Z0\, Canada
CATEGORIES:Séance du conseil
ATTACH;FMTTYPE=image/png:https://www.roxtonpond.ca/wp-content/uploads/2023/11/Seance-du-Conseil-e1700753076210.png
END:VEVENT
BEGIN:VEVENT
DTSTART;TZID=America/Toronto:20260606T080000
DTEND;TZID=America/Toronto:20260606T130000
DTSTAMP:20260419T141850
CREATED:20260319T145106Z
LAST-MODIFIED:20260319T145143Z
UID:10450-1780732800-1780750800@www.roxtonpond.ca
SUMMARY:Fête de la pêche
DESCRIPTION:La Fête de la Pêche est de retour cette année !\n\n\nSamedi 6 juin\, n’oubliez pas d’apporter une glacière fraîche pour ramener les poissons que votre enfant aura pêchés lors de son initiation.\n\n\nLes membres du Club de Pêche de Roxton Pond seront sur place pour aider les petits pêcheurs avec les appâts\, la mise à l’eau\, le décrochage des prises et l’éviscération des poissons pour celles et ceux qui le désireraient.\n\n\nIl s’agit d’une belle journée pour célébrer la pêche en famille!
URL:https://www.roxtonpond.ca/evenement/fete-de-la-peche/
LOCATION:École des Mésanges\, 676\, avenue du Lac\, Roxton Pond\, Québec\, J0E 1Z0\, Canada
END:VEVENT
BEGIN:VEVENT
DTSTART;TZID=America/Toronto:20260609T133000
DTEND;TZID=America/Toronto:20260609T160000
DTSTAMP:20260419T141850
CREATED:20250610T150232Z
LAST-MODIFIED:20260120T152717Z
UID:10133-1781011800-1781020800@www.roxtonpond.ca
SUMMARY:Les après-midi sociales
DESCRIPTION:Tous les mardis\, de 13 h 30 à 16 h\, venez jouer à des jeux de société seul ou en groupe en haut du centre communautaire : Cartes\, Uno\, Dames\, Tock\, SkipBo\, Scrabble\, Yahtzee\, Échecs et plusieurs autres jeux seront à votre disposition! Vous pouvez même apporter vos propres jeux\, mais n’oubliez pas de les ramener à la fin de la journée. \n\n\n\nApportez votre tasse puisque du café sera offert sur place! \n\n\n\nSi vous avez envie de vous impliquer dans l’organisation de ces après-midi\, nous sommes à la recherche d’un petit comité qui saura veiller au bien-être des participants sur place. Vous pourrez donner votre nom en envoyant un courriel à EVENEMENTS@ROXTONPOND.CA \n\n\n\nIl s’agit d’une activité gratuite\, ouverte à tous. Invitez vos voisins et amis\, et partagez l’information!
URL:https://www.roxtonpond.ca/evenement/les-apres-midi-sociales-2/2026-06-09/
LOCATION:Centre communautaire\, 905\, rue Saint-Jean\, Roxton Pond\, Québec\, J0E 1Z0\, Canada
CATEGORIES:Loisirs et culture
ATTACH;FMTTYPE=image/png:https://www.roxtonpond.ca/wp-content/uploads/2025/06/Apres-midi-sociales-2-e1749567851502.png
END:VEVENT
BEGIN:VEVENT
DTSTART;TZID=America/Toronto:20260616T083000
DTEND;TZID=America/Toronto:20260616T100000
DTSTAMP:20260419T141850
CREATED:20250117T160124Z
LAST-MODIFIED:20250117T160124Z
UID:10015-1781598600-1781604000@www.roxtonpond.ca
SUMMARY:TOAST CAFÉ
DESCRIPTION:Période d’échange autour de toast et de café pour les 55 ans et plus au sous-sol du centre communautaire. \nVous pourrez en profiter pour faire de nouvelles rencontres et pour discuter avec le maire! \nAbonnez-vous à l’alerte citoyenne pour être certain de ne rien manquer.
URL:https://www.roxtonpond.ca/evenement/toast-cafe-4/2026-06-16/
LOCATION:Centre communautaire\, 905\, rue Saint-Jean\, Roxton Pond\, Québec\, J0E 1Z0\, Canada
CATEGORIES:Loisirs et culture
ATTACH;FMTTYPE=image/png:https://www.roxtonpond.ca/wp-content/uploads/2023/12/Toast-Cafe-e1737129642336.png
END:VEVENT
BEGIN:VEVENT
DTSTART;TZID=America/Toronto:20260616T133000
DTEND;TZID=America/Toronto:20260616T160000
DTSTAMP:20260419T141850
CREATED:20250610T150232Z
LAST-MODIFIED:20260120T152717Z
UID:10138-1781616600-1781625600@www.roxtonpond.ca
SUMMARY:Les après-midi sociales
DESCRIPTION:Tous les mardis\, de 13 h 30 à 16 h\, venez jouer à des jeux de société seul ou en groupe en haut du centre communautaire : Cartes\, Uno\, Dames\, Tock\, SkipBo\, Scrabble\, Yahtzee\, Échecs et plusieurs autres jeux seront à votre disposition! Vous pouvez même apporter vos propres jeux\, mais n’oubliez pas de les ramener à la fin de la journée. \n\n\n\nApportez votre tasse puisque du café sera offert sur place! \n\n\n\nSi vous avez envie de vous impliquer dans l’organisation de ces après-midi\, nous sommes à la recherche d’un petit comité qui saura veiller au bien-être des participants sur place. Vous pourrez donner votre nom en envoyant un courriel à EVENEMENTS@ROXTONPOND.CA \n\n\n\nIl s’agit d’une activité gratuite\, ouverte à tous. Invitez vos voisins et amis\, et partagez l’information!
URL:https://www.roxtonpond.ca/evenement/les-apres-midi-sociales-2/2026-06-16/
LOCATION:Centre communautaire\, 905\, rue Saint-Jean\, Roxton Pond\, Québec\, J0E 1Z0\, Canada
CATEGORIES:Loisirs et culture
ATTACH;FMTTYPE=image/png:https://www.roxtonpond.ca/wp-content/uploads/2025/06/Apres-midi-sociales-2-e1749567851502.png
END:VEVENT
BEGIN:VEVENT
DTSTART;TZID=America/Toronto:20260707T193000
DTEND;TZID=America/Toronto:20260707T210000
DTSTAMP:20260419T141850
CREATED:20250403T143522Z
LAST-MODIFIED:20260120T154517Z
UID:10169-1783452600-1783458000@www.roxtonpond.ca
SUMMARY:Séances du Conseil
DESCRIPTION:Nous vous invitons à venir assister aux séances du conseil municipal qui se déroulent le 1er mardi de chaque mois\, à compter de 19 h 30 à la salle du Conseil\, située à l’hôtel de ville de Roxton Pond (901\, rue Saint-Jean). Toute la population est invitée à y prendre part. \nCalendrier des séances 2026
URL:https://www.roxtonpond.ca/evenement/seances-du-conseil/2026-07-07/
LOCATION:Hôtel de ville\, 901\, rue Saint-Jean\, Roxton Pond\, Québec\, J0E 1Z0\, Canada
CATEGORIES:Séance du conseil
ATTACH;FMTTYPE=image/png:https://www.roxtonpond.ca/wp-content/uploads/2023/11/Seance-du-Conseil-e1700753076210.png
END:VEVENT
BEGIN:VEVENT
DTSTART;TZID=America/Toronto:20260804T193000
DTEND;TZID=America/Toronto:20260804T210000
DTSTAMP:20260419T141850
CREATED:20250403T143522Z
LAST-MODIFIED:20260120T154519Z
UID:10170-1785871800-1785877200@www.roxtonpond.ca
SUMMARY:Séances du Conseil
DESCRIPTION:Nous vous invitons à venir assister aux séances du conseil municipal qui se déroulent le 1er mardi de chaque mois\, à compter de 19 h 30 à la salle du Conseil\, située à l’hôtel de ville de Roxton Pond (901\, rue Saint-Jean). Toute la population est invitée à y prendre part. \nCalendrier des séances 2026
URL:https://www.roxtonpond.ca/evenement/seances-du-conseil/2026-08-04/
LOCATION:Hôtel de ville\, 901\, rue Saint-Jean\, Roxton Pond\, Québec\, J0E 1Z0\, Canada
CATEGORIES:Séance du conseil
ATTACH;FMTTYPE=image/png:https://www.roxtonpond.ca/wp-content/uploads/2023/11/Seance-du-Conseil-e1700753076210.png
END:VEVENT
BEGIN:VEVENT
DTSTART;TZID=America/Toronto:20260901T193000
DTEND;TZID=America/Toronto:20260901T210000
DTSTAMP:20260419T141850
CREATED:20250403T143522Z
LAST-MODIFIED:20260120T154519Z
UID:10171-1788291000-1788296400@www.roxtonpond.ca
SUMMARY:Séances du Conseil
DESCRIPTION:Nous vous invitons à venir assister aux séances du conseil municipal qui se déroulent le 1er mardi de chaque mois\, à compter de 19 h 30 à la salle du Conseil\, située à l’hôtel de ville de Roxton Pond (901\, rue Saint-Jean). Toute la population est invitée à y prendre part. \nCalendrier des séances 2026
URL:https://www.roxtonpond.ca/evenement/seances-du-conseil/2026-09-01/
LOCATION:Hôtel de ville\, 901\, rue Saint-Jean\, Roxton Pond\, Québec\, J0E 1Z0\, Canada
CATEGORIES:Séance du conseil
ATTACH;FMTTYPE=image/png:https://www.roxtonpond.ca/wp-content/uploads/2023/11/Seance-du-Conseil-e1700753076210.png
END:VEVENT
BEGIN:VEVENT
DTSTART;TZID=America/Toronto:20260915T083000
DTEND;TZID=America/Toronto:20260915T100000
DTSTAMP:20260419T141850
CREATED:20250117T160124Z
LAST-MODIFIED:20250117T160124Z
UID:10016-1789461000-1789466400@www.roxtonpond.ca
SUMMARY:TOAST CAFÉ
DESCRIPTION:Période d’échange autour de toast et de café pour les 55 ans et plus au sous-sol du centre communautaire. \nVous pourrez en profiter pour faire de nouvelles rencontres et pour discuter avec le maire! \nAbonnez-vous à l’alerte citoyenne pour être certain de ne rien manquer.
URL:https://www.roxtonpond.ca/evenement/toast-cafe-4/2026-09-15/
LOCATION:Centre communautaire\, 905\, rue Saint-Jean\, Roxton Pond\, Québec\, J0E 1Z0\, Canada
CATEGORIES:Loisirs et culture
ATTACH;FMTTYPE=image/png:https://www.roxtonpond.ca/wp-content/uploads/2023/12/Toast-Cafe-e1737129642336.png
END:VEVENT
BEGIN:VEVENT
DTSTART;TZID=America/Toronto:20261006T193000
DTEND;TZID=America/Toronto:20261006T210000
DTSTAMP:20260419T141850
CREATED:20250403T143522Z
LAST-MODIFIED:20260120T154520Z
UID:10172-1791315000-1791320400@www.roxtonpond.ca
SUMMARY:Séances du Conseil
DESCRIPTION:Nous vous invitons à venir assister aux séances du conseil municipal qui se déroulent le 1er mardi de chaque mois\, à compter de 19 h 30 à la salle du Conseil\, située à l’hôtel de ville de Roxton Pond (901\, rue Saint-Jean). Toute la population est invitée à y prendre part. \nCalendrier des séances 2026
URL:https://www.roxtonpond.ca/evenement/seances-du-conseil/2026-10-06/
LOCATION:Hôtel de ville\, 901\, rue Saint-Jean\, Roxton Pond\, Québec\, J0E 1Z0\, Canada
CATEGORIES:Séance du conseil
ATTACH;FMTTYPE=image/png:https://www.roxtonpond.ca/wp-content/uploads/2023/11/Seance-du-Conseil-e1700753076210.png
END:VEVENT
BEGIN:VEVENT
DTSTART;TZID=America/Toronto:20261020T083000
DTEND;TZID=America/Toronto:20261020T100000
DTSTAMP:20260419T141850
CREATED:20250117T160124Z
LAST-MODIFIED:20250117T160124Z
UID:10017-1792485000-1792490400@www.roxtonpond.ca
SUMMARY:TOAST CAFÉ
DESCRIPTION:Période d’échange autour de toast et de café pour les 55 ans et plus au sous-sol du centre communautaire. \nVous pourrez en profiter pour faire de nouvelles rencontres et pour discuter avec le maire! \nAbonnez-vous à l’alerte citoyenne pour être certain de ne rien manquer.
URL:https://www.roxtonpond.ca/evenement/toast-cafe-4/2026-10-20/
LOCATION:Centre communautaire\, 905\, rue Saint-Jean\, Roxton Pond\, Québec\, J0E 1Z0\, Canada
CATEGORIES:Loisirs et culture
ATTACH;FMTTYPE=image/png:https://www.roxtonpond.ca/wp-content/uploads/2023/12/Toast-Cafe-e1737129642336.png
END:VEVENT
BEGIN:VEVENT
DTSTART;TZID=America/Toronto:20261103T193000
DTEND;TZID=America/Toronto:20261103T210000
DTSTAMP:20260419T141850
CREATED:20250403T143522Z
LAST-MODIFIED:20260120T154520Z
UID:10173-1793734200-1793739600@www.roxtonpond.ca
SUMMARY:Séances du Conseil
DESCRIPTION:Nous vous invitons à venir assister aux séances du conseil municipal qui se déroulent le 1er mardi de chaque mois\, à compter de 19 h 30 à la salle du Conseil\, située à l’hôtel de ville de Roxton Pond (901\, rue Saint-Jean). Toute la population est invitée à y prendre part. \nCalendrier des séances 2026
URL:https://www.roxtonpond.ca/evenement/seances-du-conseil/2026-11-03/
LOCATION:Hôtel de ville\, 901\, rue Saint-Jean\, Roxton Pond\, Québec\, J0E 1Z0\, Canada
CATEGORIES:Séance du conseil
ATTACH;FMTTYPE=image/png:https://www.roxtonpond.ca/wp-content/uploads/2023/11/Seance-du-Conseil-e1700753076210.png
END:VEVENT
BEGIN:VEVENT
DTSTART;TZID=America/Toronto:20261117T083000
DTEND;TZID=America/Toronto:20261117T100000
DTSTAMP:20260419T141850
CREATED:20250117T160124Z
LAST-MODIFIED:20250117T160124Z
UID:10018-1794904200-1794909600@www.roxtonpond.ca
SUMMARY:TOAST CAFÉ
DESCRIPTION:Période d’échange autour de toast et de café pour les 55 ans et plus au sous-sol du centre communautaire. \nVous pourrez en profiter pour faire de nouvelles rencontres et pour discuter avec le maire! \nAbonnez-vous à l’alerte citoyenne pour être certain de ne rien manquer.
URL:https://www.roxtonpond.ca/evenement/toast-cafe-4/2026-11-17/
LOCATION:Centre communautaire\, 905\, rue Saint-Jean\, Roxton Pond\, Québec\, J0E 1Z0\, Canada
CATEGORIES:Loisirs et culture
ATTACH;FMTTYPE=image/png:https://www.roxtonpond.ca/wp-content/uploads/2023/12/Toast-Cafe-e1737129642336.png
END:VEVENT
BEGIN:VEVENT
DTSTART;TZID=America/Toronto:20261201T193000
DTEND;TZID=America/Toronto:20261201T210000
DTSTAMP:20260419T141850
CREATED:20250403T143522Z
LAST-MODIFIED:20260120T154520Z
UID:10174-1796153400-1796158800@www.roxtonpond.ca
SUMMARY:Séances du Conseil
DESCRIPTION:Nous vous invitons à venir assister aux séances du conseil municipal qui se déroulent le 1er mardi de chaque mois\, à compter de 19 h 30 à la salle du Conseil\, située à l’hôtel de ville de Roxton Pond (901\, rue Saint-Jean). Toute la population est invitée à y prendre part. \nCalendrier des séances 2026
URL:https://www.roxtonpond.ca/evenement/seances-du-conseil/2026-12-01/
LOCATION:Hôtel de ville\, 901\, rue Saint-Jean\, Roxton Pond\, Québec\, J0E 1Z0\, Canada
CATEGORIES:Séance du conseil
ATTACH;FMTTYPE=image/png:https://www.roxtonpond.ca/wp-content/uploads/2023/11/Seance-du-Conseil-e1700753076210.png
END:VEVENT
BEGIN:VEVENT
DTSTART;TZID=America/Toronto:20261215T083000
DTEND;TZID=America/Toronto:20261215T100000
DTSTAMP:20260419T141850
CREATED:20250117T160124Z
LAST-MODIFIED:20250117T160124Z
UID:10019-1797323400-1797328800@www.roxtonpond.ca
SUMMARY:TOAST CAFÉ
DESCRIPTION:Période d’échange autour de toast et de café pour les 55 ans et plus au sous-sol du centre communautaire. \nVous pourrez en profiter pour faire de nouvelles rencontres et pour discuter avec le maire! \nAbonnez-vous à l’alerte citoyenne pour être certain de ne rien manquer.
URL:https://www.roxtonpond.ca/evenement/toast-cafe-4/2026-12-15/
LOCATION:Centre communautaire\, 905\, rue Saint-Jean\, Roxton Pond\, Québec\, J0E 1Z0\, Canada
CATEGORIES:Loisirs et culture
ATTACH;FMTTYPE=image/png:https://www.roxtonpond.ca/wp-content/uploads/2023/12/Toast-Cafe-e1737129642336.png
END:VEVENT
END:VCALENDAR