BEGIN:VCALENDAR
VERSION:2.0
PRODID:-//Municipalité de Roxton Pond - ECPv5.9.2//NONSGML v1.0//EN
CALSCALE:GREGORIAN
METHOD:PUBLISH
X-WR-CALNAME:Municipalité de Roxton Pond
X-ORIGINAL-URL:https://www.roxtonpond.ca
X-WR-CALDESC:évènements pour Municipalité de Roxton Pond
BEGIN:VTIMEZONE
TZID:America/Toronto
BEGIN:DAYLIGHT
TZOFFSETFROM:-0500
TZOFFSETTO:-0400
TZNAME:EDT
DTSTART:20240310T070000
END:DAYLIGHT
BEGIN:STANDARD
TZOFFSETFROM:-0400
TZOFFSETTO:-0500
TZNAME:EST
DTSTART:20241103T060000
END:STANDARD
END:VTIMEZONE
BEGIN:VEVENT
DTSTART;TZID=America/Toronto:20240908T103000
DTEND;TZID=America/Toronto:20240908T150000
DTSTAMP:20260423T170634
CREATED:20240814T185745Z
LAST-MODIFIED:20240906T131101Z
UID:7279-1725791400-1725807600@www.roxtonpond.ca
SUMMARY:MESSE COUNTRY
DESCRIPTION:Le 8 septembre prochain\, venez assister à la célèbre MESSE COUNTRY à l’église catholique de Roxton Pond\, organisée par la Paroisse Ste-Pudentienne de Roxton Pond.\n\n\n \n\n\nRestez sur place après le service puisqu’il y aura un pique-nique tenu par la Fabrique de Roxton Pond\, où seront offerts hot dogs et blés d’Inde\, et vous pourrez danser sous le gazébo au son de René Desmarais! 🤠\n\n\n \n\n\nEn plus de tout ça\, plusieurs exposants locaux seront sur place pour vendre leurs produits. Si vous aimeriez tenir un kiosque lors cette journée\, contactez : 📧 EVENEMENTS@ROXTONPOND.CA\n.\nNos exposants sont : Création SMMP\, Vignoble la Manse\, Verger JP Bisson 2.0\, Cercle de fermières de Roxton Pond
URL:https://www.roxtonpond.ca/evenement/messe-country-2/
LOCATION:Gazébo de l’église\, 940\, rue Principale\, Roxton Pond\, Québec\, J0E 1Z0\, Canada
CATEGORIES:Loisirs et culture
ATTACH;FMTTYPE=image/png:https://www.roxtonpond.ca/wp-content/uploads/2024/08/Messe-country-8-septembre-2024-FACEBOOK-e1723661433724.png
END:VEVENT
END:VCALENDAR