BEGIN:VCALENDAR
VERSION:2.0
PRODID:-//Municipalité de Roxton Pond - ECPv5.9.2//NONSGML v1.0//EN
CALSCALE:GREGORIAN
METHOD:PUBLISH
X-WR-CALNAME:Municipalité de Roxton Pond
X-ORIGINAL-URL:https://www.roxtonpond.ca
X-WR-CALDESC:évènements pour Municipalité de Roxton Pond
BEGIN:VTIMEZONE
TZID:America/Toronto
BEGIN:DAYLIGHT
TZOFFSETFROM:-0500
TZOFFSETTO:-0400
TZNAME:EDT
DTSTART:20240310T070000
END:DAYLIGHT
BEGIN:STANDARD
TZOFFSETFROM:-0400
TZOFFSETTO:-0500
TZNAME:EST
DTSTART:20241103T060000
END:STANDARD
END:VTIMEZONE
BEGIN:VEVENT
DTSTART;TZID=America/Toronto:20240713T110000
DTEND;TZID=America/Toronto:20240713T170000
DTSTAMP:20260423T193030
CREATED:20240527T175930Z
LAST-MODIFIED:20240712T123935Z
UID:6866-1720868400-1720890000@www.roxtonpond.ca
SUMMARY:Festival VIVRE
DESCRIPTION:La toute première édition du Festival VIVRE à ne pas manquer !\nMarquez vos calendriers pour le 13 juillet\, car le tout nouveau Festival VIVRE de Roxton Pond vous attend pour une journée gratuite remplie de bien-être et de plaisir pour toute la famille.\nCette première édition promet d’être une expérience inoubliable célébrant la vie\, le mouvement et l’épanouissement. Des activités captivantes pour tous les âges vous attendent\, des plus jeunes aux plus âgés.\n.\nPréparez-vous à être submergés par une vague d’énergie positive et de bonne humeur contagieuse. Que vous soyez un aventurier en herbe ou un amateur de détente\, il y en aura pour tous les goûts. Imaginez des ateliers de yoga revigorants sous les rayons du soleil\, des séances de méditation apaisantes au son de la nature\, et bien plus encore\, le tout entièrement gratuit !\n.\nNe manquez pas cette opportunité unique de vous immerger dans une journée remplie de rires\, de découvertes et de précieux moments à partager en famille ou entre amis. Le Festival VIVRE de Roxton Pond vous ouvre grand ses portes pour une expérience mémorable.\n.\nS’ajoute aux entraînements de tout genre\, des conférences sur l’alimentation et le bien-être\, des kiosques d’artisans\, un espace mandalas et bien plus! Les 100 premiers participants adultes recevront un sac cadeau de petites surprises et de coupons rabais des commerces de la région.\n.\nAllez suivre la page Facebook de l’événement pour ne rien manquer!
URL:https://www.roxtonpond.ca/evenement/festival-vivre/
LOCATION:Plage municipale de Roxton Pond\, 2069\, avenue du Lac Ouest\, Roxton Pond\, Québec\, J0E 1Z0\, Canada
CATEGORIES:Loisirs et culture
ATTACH;FMTTYPE=image/png:https://www.roxtonpond.ca/wp-content/uploads/2024/05/FESTIVAL-VIVRE-SITE-WEB-e1716836927438.png
END:VEVENT
END:VCALENDAR