BEGIN:VCALENDAR
VERSION:2.0
PRODID:-//Municipalité de Roxton Pond - ECPv5.9.2//NONSGML v1.0//EN
CALSCALE:GREGORIAN
METHOD:PUBLISH
X-WR-CALNAME:Municipalité de Roxton Pond
X-ORIGINAL-URL:https://www.roxtonpond.ca
X-WR-CALDESC:évènements pour Municipalité de Roxton Pond
BEGIN:VTIMEZONE
TZID:America/Toronto
BEGIN:DAYLIGHT
TZOFFSETFROM:-0500
TZOFFSETTO:-0400
TZNAME:EDT
DTSTART:20240310T070000
END:DAYLIGHT
BEGIN:STANDARD
TZOFFSETFROM:-0400
TZOFFSETTO:-0500
TZNAME:EST
DTSTART:20241103T060000
END:STANDARD
END:VTIMEZONE
BEGIN:VEVENT
DTSTART;TZID=America/Toronto:20240407T103000
DTEND;TZID=America/Toronto:20240407T140000
DTSTAMP:20260423T222441
CREATED:20231221T165913Z
LAST-MODIFIED:20240306T162508Z
UID:6221-1712485800-1712498400@www.roxtonpond.ca
SUMMARY:BRUNCH DES BECS SUCRÉS
DESCRIPTION:Le brunch des becs sucrés est de retour sous une nouvelle formule : Il n’y aura que des activités intérieures\, pour ceux qui seront présents au brunch.  \nAU MENU : Repas de cabane à sucre préparé et servi par l’érablière La Grillade\, chansonniers\, animation et maquillage pour enfants\, ainsi que plusieurs prix de présence! \nVous pourrez vous inscrire en ligne\, sur la plateforme Qidigo du 7 février au 26 mars. Vous pouvez aussi vous inscrire en remplissant un coupon papier\, directement à l’hôtel de ville. \nCOÛT D’ENTRÉE\n12 ans et plus : 17\,50$\n5 à 11 ans : 8\,00$\n0 à 4 ans : Gratuit \nLes inscriptions sont obligatoires\, même pour les bambins! Aucun remboursement ne sera effectué après le 26 mars. \n  \n  \n 
URL:https://www.roxtonpond.ca/evenement/brunch-des-becs-sucres/
LOCATION:Centre communautaire\, 905\, rue Saint-Jean\, Roxton Pond\, Québec\, J0E 1Z0\, Canada
CATEGORIES:Loisirs et culture
ATTACH;FMTTYPE=image/png:https://www.roxtonpond.ca/wp-content/uploads/2023/12/Brunch-des-becs-sucres-Site-Web-e1706889816398.png
END:VEVENT
END:VCALENDAR