BEGIN:VCALENDAR
VERSION:2.0
PRODID:-//Municipalité de Roxton Pond - ECPv5.9.2//NONSGML v1.0//EN
CALSCALE:GREGORIAN
METHOD:PUBLISH
X-WR-CALNAME:Municipalité de Roxton Pond
X-ORIGINAL-URL:https://www.roxtonpond.ca
X-WR-CALDESC:évènements pour Municipalité de Roxton Pond
BEGIN:VTIMEZONE
TZID:America/Toronto
BEGIN:DAYLIGHT
TZOFFSETFROM:-0500
TZOFFSETTO:-0400
TZNAME:EDT
DTSTART:20240310T070000
END:DAYLIGHT
BEGIN:STANDARD
TZOFFSETFROM:-0400
TZOFFSETTO:-0500
TZNAME:EST
DTSTART:20241103T060000
END:STANDARD
END:VTIMEZONE
BEGIN:VEVENT
DTSTART;TZID=America/Toronto:20240307T100000
DTEND;TZID=America/Toronto:20240307T113000
DTSTAMP:20260423T234236
CREATED:20231220T160927Z
LAST-MODIFIED:20240306T154131Z
UID:6214-1709805600-1709811000@www.roxtonpond.ca
SUMMARY:ATELIER DESSINS 6-12 ans (ANNULÉ)
DESCRIPTION:Thème : Atelier floral (ANNULÉ)\nPour souligner la semaine de relâche et l’arrivée prochaine du printemps\, viens créer et apprendre à reconnaitre puis à dessiner des fleurs et des plantes qui nous entourent avec l’artiste Jessica Ruel. Illustratrice jeunesse\, elle pourra te guider et te donner des trucs faciles à partir de forme géométrique pour te permettre de dessiner les plus belles variétés végétales. N’hésite pas à apporter ton cahier de croquis si tu en as un! \nPour enfants d’âge primaire (6-12 ans) de niveau débutant. Tout le matériel est fourni (crayons de mine\, effaces\, aiguisoirs\, crayons de couleurs\, marqueurs\, papier et papier kraft.) \nRestez à l’affût des publications Facebook de la Municipalité  et inscrivez-vous à l’alerte citoyenne pour être certain de ne rien manquer des activités loisirs!
URL:https://www.roxtonpond.ca/evenement/atelier-dessins-6-12-ans/
LOCATION:Centre communautaire\, 905\, rue Saint-Jean\, Roxton Pond\, Québec\, J0E 1Z0\, Canada
CATEGORIES:Loisirs et culture
ATTACH;FMTTYPE=image/jpeg:https://www.roxtonpond.ca/wp-content/uploads/2023/12/Atelier-dessin-2-mars-2024-e1706891512148.jpg
END:VEVENT
END:VCALENDAR