BEGIN:VCALENDAR
VERSION:2.0
PRODID:-//Municipalité de Roxton Pond - ECPv5.9.2//NONSGML v1.0//EN
CALSCALE:GREGORIAN
METHOD:PUBLISH
X-WR-CALNAME:Municipalité de Roxton Pond
X-ORIGINAL-URL:https://www.roxtonpond.ca
X-WR-CALDESC:évènements pour Municipalité de Roxton Pond
BEGIN:VTIMEZONE
TZID:America/Toronto
BEGIN:DAYLIGHT
TZOFFSETFROM:-0500
TZOFFSETTO:-0400
TZNAME:EDT
DTSTART:20230312T070000
END:DAYLIGHT
BEGIN:STANDARD
TZOFFSETFROM:-0400
TZOFFSETTO:-0500
TZNAME:EST
DTSTART:20231105T060000
END:STANDARD
END:VTIMEZONE
BEGIN:VEVENT
DTSTART;TZID=America/Toronto:20231210T123000
DTEND;TZID=America/Toronto:20231210T143000
DTSTAMP:20260424T033250
CREATED:20231107T200040Z
LAST-MODIFIED:20231212T151328Z
UID:5868-1702211400-1702218600@www.roxtonpond.ca
SUMMARY:REMISE DE CADEAUX
DESCRIPTION:PARADE REPORTÉE AU DIMANCHE 17 DÉCEMBRE\n\nC’est avec regret que nous avons pris la décision de reporté la parade de Noël du 10 décembre au 17 décembre. La pluie abondante annoncée dimanche ne sera pas agréable ni pour les chevaux ni pour les personnes sur les chars allégoriques et les spectateurs. \n\n\n \n\n\nLa remise de cadeaux a toujours lieu pour les enfants qui ont été inscrits. Les cadeaux seront donnés par le Père-Noël à l’entrée AVANT du centre communautaire. SVP\, respectez l’heure qui vous a été attribuée.🎁
URL:https://www.roxtonpond.ca/evenement/remise-de-cadeaux/
CATEGORIES:Loisirs et culture
ATTACH;FMTTYPE=image/png:https://www.roxtonpond.ca/wp-content/uploads/2023/11/PARADE-DE-NOEL-2023-e1702394072861.png
END:VEVENT
END:VCALENDAR