BEGIN:VCALENDAR
VERSION:2.0
PRODID:-//Municipalité de Roxton Pond - ECPv5.9.2//NONSGML v1.0//EN
CALSCALE:GREGORIAN
METHOD:PUBLISH
X-WR-CALNAME:Municipalité de Roxton Pond
X-ORIGINAL-URL:https://www.roxtonpond.ca
X-WR-CALDESC:évènements pour Municipalité de Roxton Pond
BEGIN:VTIMEZONE
TZID:America/Toronto
BEGIN:DAYLIGHT
TZOFFSETFROM:-0500
TZOFFSETTO:-0400
TZNAME:EDT
DTSTART:20230312T070000
END:DAYLIGHT
BEGIN:STANDARD
TZOFFSETFROM:-0400
TZOFFSETTO:-0500
TZNAME:EST
DTSTART:20231105T060000
END:STANDARD
END:VTIMEZONE
BEGIN:VEVENT
DTSTART;TZID=America/Toronto:20230210T183000
DTEND;TZID=America/Toronto:20230210T200000
DTSTAMP:20260424T153459
CREATED:20230127T160220Z
LAST-MODIFIED:20230127T160241Z
UID:4650-1676053800-1676059200@www.roxtonpond.ca
SUMMARY:MARCHE AUX FLAMBEAUX
DESCRIPTION:Prenez le temps de profiter de l’hiver avec votre famille et vos amis en déambulant dans un parcours enchanteur lors de la marche aux flambeaux de Roxton Pond! \nL’événement GRATUIT pour tous aura lieu le vendredi\, 10 février\, de 18 h 30 à 20 h. Un spectacle de feu lancera la marche à 18 h 30 près du lac derrière l’école des Mésanges. Le parcours débutera à cet endroit\, passera sur le lac en contournant les deux îles\, puis empruntera le sentiers de l’oie avant de finir au parc de l’Oie\, où breuvages chauds et guimauves sur le feu vous attendront. \n** Si l’épaisseur de la glace sur le lac ne permet pas la tenue de la marche à cet endroit\, l’activité sera déplacée dans les sentiers au bas du village\, et le départ se fera au parc Lacasse.
URL:https://www.roxtonpond.ca/evenement/marche-aux-flambeaux-2/
CATEGORIES:Loisirs et culture
END:VEVENT
END:VCALENDAR