BEGIN:VCALENDAR
VERSION:2.0
PRODID:-//Municipalité de Roxton Pond - ECPv5.9.2//NONSGML v1.0//EN
CALSCALE:GREGORIAN
METHOD:PUBLISH
X-WR-CALNAME:Municipalité de Roxton Pond
X-ORIGINAL-URL:https://www.roxtonpond.ca
X-WR-CALDESC:évènements pour Municipalité de Roxton Pond
BEGIN:VTIMEZONE
TZID:America/Toronto
BEGIN:DAYLIGHT
TZOFFSETFROM:-0500
TZOFFSETTO:-0400
TZNAME:EDT
DTSTART:20250309T070000
END:DAYLIGHT
BEGIN:STANDARD
TZOFFSETFROM:-0400
TZOFFSETTO:-0500
TZNAME:EST
DTSTART:20251102T060000
END:STANDARD
END:VTIMEZONE
BEGIN:VEVENT
DTSTART;TZID=America/Toronto:20250401T133000
DTEND;TZID=America/Toronto:20250401T160000
DTSTAMP:20260423T073205
CREATED:20250117T155508Z
LAST-MODIFIED:20250610T150539Z
UID:8981-1743514200-1743523200@www.roxtonpond.ca
SUMMARY:Les après-midi sociales
DESCRIPTION:Une nouveauté pour encourager les rencontres de toute sorte\, accessible à tous les âges\, dès le 21 janvier!\n\n\n\nTous les mardis\, de 13 h 30 à 16 h\, venez jouer à des jeux de société seul ou en groupe en haut du centre communautaire : Cartes\, Uno\, Dames\, Tock\, SkipBo\, Scrabble\, Yahtzee\, Échecs et plusieurs autres jeux seront à votre disposition! Vous pouvez même apporter vos propres jeux\, mais n’oubliez pas de les ramener à la fin de la journée. \n\n\n\nApportez votre tasse puisque du café sera offert sur place! \n\n\n\nSi vous avez envie de vous impliquer dans l’organisation de ces après-midi\, nous sommes à la recherche d’un petit comité qui saura veiller au bien-être des participants sur place. Vous pourrez donner votre nom en envoyant un courriel à EVENEMENTS@ROXTONPOND.CA \n\n\n\nIl s’agit d’une activité gratuite\, ouverte à tous. Invitez vos voisins et amis\, et partagez l’information!
URL:https://www.roxtonpond.ca/evenement/les-apres-midi-sociales/2025-04-01/
LOCATION:Centre communautaire\, 905\, rue Saint-Jean\, Roxton Pond\, Québec\, J0E 1Z0\, Canada
CATEGORIES:Loisirs et culture
ATTACH;FMTTYPE=image/png:https://www.roxtonpond.ca/wp-content/uploads/2025/01/Apres-midi-sociales-1-1-e1737129297586.png
END:VEVENT
BEGIN:VEVENT
DTSTART;TZID=America/Toronto:20250406T103000
DTEND;TZID=America/Toronto:20250406T140000
DTSTAMP:20260423T073205
CREATED:20250127T204235Z
LAST-MODIFIED:20250324T193156Z
UID:8173-1743935400-1743948000@www.roxtonpond.ca
SUMMARY:BRUNCH DES BECS SUCRÉS
DESCRIPTION:Venez déguster un déjeuner du temps des sucres préparé par l’Erabliere La Grillade en écoutant la musique du duo B.Mine. Plusieurs prix de présence chocolatés seront tirés sur place\, et gardez l’œil ouvert…vous pourrez peut-être apercevoir le lapin de Pâques!  Des maquillages pour enfant seront offert\, en plus d’un jeu gonflable à l’extérieur\, si la température le permet. \nLe brunch sera servi de 10 h 30 à 13 h et l’activité prendra fin vers 14 h. \nTARIFS :\nAdultes résidents* (12 ans et plus) : 20$\nAdultes non-résidents (12 ans et plus) : 25$\nEnfants (5 à 11 ans) : 10 $\nBambins (0 à 4 ans) : Gratuit  L’inscription est obligatoire même si elle est gratuite.\nInscrivez-vous dès maintenant sur QIDIGO ou à l’hôtel de ville.
URL:https://www.roxtonpond.ca/evenement/brunch-des-becs-sucres-2/
LOCATION:Centre communautaire\, 905\, rue Saint-Jean\, Roxton Pond\, Québec\, J0E 1Z0\, Canada
CATEGORIES:Loisirs et culture
ATTACH;FMTTYPE=image/png:https://www.roxtonpond.ca/wp-content/uploads/2025/01/Brunch-des-becs-sucres-WEB-1-e1738010173348.png
END:VEVENT
BEGIN:VEVENT
DTSTART;TZID=America/Toronto:20250408T133000
DTEND;TZID=America/Toronto:20250408T160000
DTSTAMP:20260423T073205
CREATED:20250117T155508Z
LAST-MODIFIED:20250610T150544Z
UID:8982-1744119000-1744128000@www.roxtonpond.ca
SUMMARY:Les après-midi sociales
DESCRIPTION:Une nouveauté pour encourager les rencontres de toute sorte\, accessible à tous les âges\, dès le 21 janvier!\n\n\n\nTous les mardis\, de 13 h 30 à 16 h\, venez jouer à des jeux de société seul ou en groupe en haut du centre communautaire : Cartes\, Uno\, Dames\, Tock\, SkipBo\, Scrabble\, Yahtzee\, Échecs et plusieurs autres jeux seront à votre disposition! Vous pouvez même apporter vos propres jeux\, mais n’oubliez pas de les ramener à la fin de la journée. \n\n\n\nApportez votre tasse puisque du café sera offert sur place! \n\n\n\nSi vous avez envie de vous impliquer dans l’organisation de ces après-midi\, nous sommes à la recherche d’un petit comité qui saura veiller au bien-être des participants sur place. Vous pourrez donner votre nom en envoyant un courriel à EVENEMENTS@ROXTONPOND.CA \n\n\n\nIl s’agit d’une activité gratuite\, ouverte à tous. Invitez vos voisins et amis\, et partagez l’information!
URL:https://www.roxtonpond.ca/evenement/les-apres-midi-sociales/2025-04-08/
LOCATION:Centre communautaire\, 905\, rue Saint-Jean\, Roxton Pond\, Québec\, J0E 1Z0\, Canada
CATEGORIES:Loisirs et culture
ATTACH;FMTTYPE=image/png:https://www.roxtonpond.ca/wp-content/uploads/2025/01/Apres-midi-sociales-1-1-e1737129297586.png
END:VEVENT
BEGIN:VEVENT
DTSTART;TZID=America/Toronto:20250415T133000
DTEND;TZID=America/Toronto:20250415T160000
DTSTAMP:20260423T073205
CREATED:20250117T155508Z
LAST-MODIFIED:20250610T150545Z
UID:8983-1744723800-1744732800@www.roxtonpond.ca
SUMMARY:Les après-midi sociales
DESCRIPTION:Une nouveauté pour encourager les rencontres de toute sorte\, accessible à tous les âges\, dès le 21 janvier!\n\n\n\nTous les mardis\, de 13 h 30 à 16 h\, venez jouer à des jeux de société seul ou en groupe en haut du centre communautaire : Cartes\, Uno\, Dames\, Tock\, SkipBo\, Scrabble\, Yahtzee\, Échecs et plusieurs autres jeux seront à votre disposition! Vous pouvez même apporter vos propres jeux\, mais n’oubliez pas de les ramener à la fin de la journée. \n\n\n\nApportez votre tasse puisque du café sera offert sur place! \n\n\n\nSi vous avez envie de vous impliquer dans l’organisation de ces après-midi\, nous sommes à la recherche d’un petit comité qui saura veiller au bien-être des participants sur place. Vous pourrez donner votre nom en envoyant un courriel à EVENEMENTS@ROXTONPOND.CA \n\n\n\nIl s’agit d’une activité gratuite\, ouverte à tous. Invitez vos voisins et amis\, et partagez l’information!
URL:https://www.roxtonpond.ca/evenement/les-apres-midi-sociales/2025-04-15/
LOCATION:Centre communautaire\, 905\, rue Saint-Jean\, Roxton Pond\, Québec\, J0E 1Z0\, Canada
CATEGORIES:Loisirs et culture
ATTACH;FMTTYPE=image/png:https://www.roxtonpond.ca/wp-content/uploads/2025/01/Apres-midi-sociales-1-1-e1737129297586.png
END:VEVENT
BEGIN:VEVENT
DTSTART;TZID=America/Toronto:20250422T133000
DTEND;TZID=America/Toronto:20250422T160000
DTSTAMP:20260423T073205
CREATED:20250117T155508Z
LAST-MODIFIED:20250610T150546Z
UID:8984-1745328600-1745337600@www.roxtonpond.ca
SUMMARY:Les après-midi sociales
DESCRIPTION:Une nouveauté pour encourager les rencontres de toute sorte\, accessible à tous les âges\, dès le 21 janvier!\n\n\n\nTous les mardis\, de 13 h 30 à 16 h\, venez jouer à des jeux de société seul ou en groupe en haut du centre communautaire : Cartes\, Uno\, Dames\, Tock\, SkipBo\, Scrabble\, Yahtzee\, Échecs et plusieurs autres jeux seront à votre disposition! Vous pouvez même apporter vos propres jeux\, mais n’oubliez pas de les ramener à la fin de la journée. \n\n\n\nApportez votre tasse puisque du café sera offert sur place! \n\n\n\nSi vous avez envie de vous impliquer dans l’organisation de ces après-midi\, nous sommes à la recherche d’un petit comité qui saura veiller au bien-être des participants sur place. Vous pourrez donner votre nom en envoyant un courriel à EVENEMENTS@ROXTONPOND.CA \n\n\n\nIl s’agit d’une activité gratuite\, ouverte à tous. Invitez vos voisins et amis\, et partagez l’information!
URL:https://www.roxtonpond.ca/evenement/les-apres-midi-sociales/2025-04-22/
LOCATION:Centre communautaire\, 905\, rue Saint-Jean\, Roxton Pond\, Québec\, J0E 1Z0\, Canada
CATEGORIES:Loisirs et culture
ATTACH;FMTTYPE=image/png:https://www.roxtonpond.ca/wp-content/uploads/2025/01/Apres-midi-sociales-1-1-e1737129297586.png
END:VEVENT
BEGIN:VEVENT
DTSTART;TZID=America/Toronto:20250429T133000
DTEND;TZID=America/Toronto:20250429T160000
DTSTAMP:20260423T073205
CREATED:20250117T155508Z
LAST-MODIFIED:20250610T150548Z
UID:8985-1745933400-1745942400@www.roxtonpond.ca
SUMMARY:Les après-midi sociales
DESCRIPTION:Une nouveauté pour encourager les rencontres de toute sorte\, accessible à tous les âges\, dès le 21 janvier!\n\n\n\nTous les mardis\, de 13 h 30 à 16 h\, venez jouer à des jeux de société seul ou en groupe en haut du centre communautaire : Cartes\, Uno\, Dames\, Tock\, SkipBo\, Scrabble\, Yahtzee\, Échecs et plusieurs autres jeux seront à votre disposition! Vous pouvez même apporter vos propres jeux\, mais n’oubliez pas de les ramener à la fin de la journée. \n\n\n\nApportez votre tasse puisque du café sera offert sur place! \n\n\n\nSi vous avez envie de vous impliquer dans l’organisation de ces après-midi\, nous sommes à la recherche d’un petit comité qui saura veiller au bien-être des participants sur place. Vous pourrez donner votre nom en envoyant un courriel à EVENEMENTS@ROXTONPOND.CA \n\n\n\nIl s’agit d’une activité gratuite\, ouverte à tous. Invitez vos voisins et amis\, et partagez l’information!
URL:https://www.roxtonpond.ca/evenement/les-apres-midi-sociales/2025-04-29/
LOCATION:Centre communautaire\, 905\, rue Saint-Jean\, Roxton Pond\, Québec\, J0E 1Z0\, Canada
CATEGORIES:Loisirs et culture
ATTACH;FMTTYPE=image/png:https://www.roxtonpond.ca/wp-content/uploads/2025/01/Apres-midi-sociales-1-1-e1737129297586.png
END:VEVENT
END:VCALENDAR