BEGIN:VCALENDAR
VERSION:2.0
PRODID:-//Municipalité de Roxton Pond - ECPv5.9.2//NONSGML v1.0//EN
CALSCALE:GREGORIAN
METHOD:PUBLISH
X-WR-CALNAME:Municipalité de Roxton Pond
X-ORIGINAL-URL:https://www.roxtonpond.ca
X-WR-CALDESC:évènements pour Municipalité de Roxton Pond
BEGIN:VTIMEZONE
TZID:America/Toronto
BEGIN:DAYLIGHT
TZOFFSETFROM:-0500
TZOFFSETTO:-0400
TZNAME:EDT
DTSTART:20250309T070000
END:DAYLIGHT
BEGIN:STANDARD
TZOFFSETFROM:-0400
TZOFFSETTO:-0500
TZNAME:EST
DTSTART:20251102T060000
END:STANDARD
END:VTIMEZONE
BEGIN:VEVENT
DTSTART;TZID=America/Toronto:20250204T133000
DTEND;TZID=America/Toronto:20250204T160000
DTSTAMP:20260423T095836
CREATED:20250117T155508Z
LAST-MODIFIED:20250610T150535Z
UID:8973-1738675800-1738684800@www.roxtonpond.ca
SUMMARY:Les après-midi sociales
DESCRIPTION:Une nouveauté pour encourager les rencontres de toute sorte\, accessible à tous les âges\, dès le 21 janvier!\n\n\n\nTous les mardis\, de 13 h 30 à 16 h\, venez jouer à des jeux de société seul ou en groupe en haut du centre communautaire : Cartes\, Uno\, Dames\, Tock\, SkipBo\, Scrabble\, Yahtzee\, Échecs et plusieurs autres jeux seront à votre disposition! Vous pouvez même apporter vos propres jeux\, mais n’oubliez pas de les ramener à la fin de la journée. \n\n\n\nApportez votre tasse puisque du café sera offert sur place! \n\n\n\nSi vous avez envie de vous impliquer dans l’organisation de ces après-midi\, nous sommes à la recherche d’un petit comité qui saura veiller au bien-être des participants sur place. Vous pourrez donner votre nom en envoyant un courriel à EVENEMENTS@ROXTONPOND.CA \n\n\n\nIl s’agit d’une activité gratuite\, ouverte à tous. Invitez vos voisins et amis\, et partagez l’information!
URL:https://www.roxtonpond.ca/evenement/les-apres-midi-sociales/2025-02-04/
LOCATION:Centre communautaire\, 905\, rue Saint-Jean\, Roxton Pond\, Québec\, J0E 1Z0\, Canada
CATEGORIES:Loisirs et culture
ATTACH;FMTTYPE=image/png:https://www.roxtonpond.ca/wp-content/uploads/2025/01/Apres-midi-sociales-1-1-e1737129297586.png
END:VEVENT
BEGIN:VEVENT
DTSTART;TZID=America/Toronto:20250207T180000
DTEND;TZID=America/Toronto:20250207T200000
DTSTAMP:20260423T095836
CREATED:20250117T130732Z
LAST-MODIFIED:20250117T130758Z
UID:7953-1738951200-1738958400@www.roxtonpond.ca
SUMMARY:MARCHE AUX FLAMBEAUX
DESCRIPTION:Cette activité hivernale classique sera de retour chez nous\, le vendredi 7 février\, de 18 h à 20 h. Le départ de la marche se fera au parc des Sports (70\, rue Gareau)\, où breuvages chauds et prestation lumineuse vous attendront. \n\n\n\nL’événement est GRATUIT et ouvert à toute la famille! Vous pourrez vous promener dans les sentiers enneigés\, à la lueur des flambeaux\, dans une ambiance conviviale et apaisante.  Offrez-vous ce moment magique en famille\, seul ou entre amis!\n\n\n\nSoyez à l’heure pour ne rien manquer du spectacle…
URL:https://www.roxtonpond.ca/evenement/marche-aux-flambeaux-4/
LOCATION:Parc des Sports\, 70\, rue Gareau\, Roxton Pond\, Québec\, J0E 1Z0\, Canada
CATEGORIES:Loisirs et culture
ATTACH;FMTTYPE=image/png:https://www.roxtonpond.ca/wp-content/uploads/2025/01/Marche-aux-flambeaux-2025-FACEBOOK-1-e1737119243812.png
END:VEVENT
BEGIN:VEVENT
DTSTART;TZID=America/Toronto:20250211T133000
DTEND;TZID=America/Toronto:20250211T160000
DTSTAMP:20260423T095836
CREATED:20250117T155508Z
LAST-MODIFIED:20250610T150536Z
UID:8974-1739280600-1739289600@www.roxtonpond.ca
SUMMARY:Les après-midi sociales
DESCRIPTION:Une nouveauté pour encourager les rencontres de toute sorte\, accessible à tous les âges\, dès le 21 janvier!\n\n\n\nTous les mardis\, de 13 h 30 à 16 h\, venez jouer à des jeux de société seul ou en groupe en haut du centre communautaire : Cartes\, Uno\, Dames\, Tock\, SkipBo\, Scrabble\, Yahtzee\, Échecs et plusieurs autres jeux seront à votre disposition! Vous pouvez même apporter vos propres jeux\, mais n’oubliez pas de les ramener à la fin de la journée. \n\n\n\nApportez votre tasse puisque du café sera offert sur place! \n\n\n\nSi vous avez envie de vous impliquer dans l’organisation de ces après-midi\, nous sommes à la recherche d’un petit comité qui saura veiller au bien-être des participants sur place. Vous pourrez donner votre nom en envoyant un courriel à EVENEMENTS@ROXTONPOND.CA \n\n\n\nIl s’agit d’une activité gratuite\, ouverte à tous. Invitez vos voisins et amis\, et partagez l’information!
URL:https://www.roxtonpond.ca/evenement/les-apres-midi-sociales/2025-02-11/
LOCATION:Centre communautaire\, 905\, rue Saint-Jean\, Roxton Pond\, Québec\, J0E 1Z0\, Canada
CATEGORIES:Loisirs et culture
ATTACH;FMTTYPE=image/png:https://www.roxtonpond.ca/wp-content/uploads/2025/01/Apres-midi-sociales-1-1-e1737129297586.png
END:VEVENT
BEGIN:VEVENT
DTSTART;TZID=America/Toronto:20250218T133000
DTEND;TZID=America/Toronto:20250218T160000
DTSTAMP:20260423T095836
CREATED:20250117T155508Z
LAST-MODIFIED:20250610T150537Z
UID:8975-1739885400-1739894400@www.roxtonpond.ca
SUMMARY:Les après-midi sociales
DESCRIPTION:Une nouveauté pour encourager les rencontres de toute sorte\, accessible à tous les âges\, dès le 21 janvier!\n\n\n\nTous les mardis\, de 13 h 30 à 16 h\, venez jouer à des jeux de société seul ou en groupe en haut du centre communautaire : Cartes\, Uno\, Dames\, Tock\, SkipBo\, Scrabble\, Yahtzee\, Échecs et plusieurs autres jeux seront à votre disposition! Vous pouvez même apporter vos propres jeux\, mais n’oubliez pas de les ramener à la fin de la journée. \n\n\n\nApportez votre tasse puisque du café sera offert sur place! \n\n\n\nSi vous avez envie de vous impliquer dans l’organisation de ces après-midi\, nous sommes à la recherche d’un petit comité qui saura veiller au bien-être des participants sur place. Vous pourrez donner votre nom en envoyant un courriel à EVENEMENTS@ROXTONPOND.CA \n\n\n\nIl s’agit d’une activité gratuite\, ouverte à tous. Invitez vos voisins et amis\, et partagez l’information!
URL:https://www.roxtonpond.ca/evenement/les-apres-midi-sociales/2025-02-18/
LOCATION:Centre communautaire\, 905\, rue Saint-Jean\, Roxton Pond\, Québec\, J0E 1Z0\, Canada
CATEGORIES:Loisirs et culture
ATTACH;FMTTYPE=image/png:https://www.roxtonpond.ca/wp-content/uploads/2025/01/Apres-midi-sociales-1-1-e1737129297586.png
END:VEVENT
BEGIN:VEVENT
DTSTART;VALUE=DATE:20250224
DTEND;VALUE=DATE:20250225
DTSTAMP:20260423T095836
CREATED:20250217T152928Z
LAST-MODIFIED:20250217T153105Z
UID:8309-1740355200-1740441599@www.roxtonpond.ca
SUMMARY:Début des inscriptions de soccer
DESCRIPTION:C’est le début des inscriptions à la Ligue de soccer Montérégie pour la saison 2025! \nLes inscriptions prendront fin le 14 mars 2025.
URL:https://www.roxtonpond.ca/evenement/debut-des-inscriptions-de-soccer/
CATEGORIES:Loisirs et culture
ATTACH;FMTTYPE=image/png:https://www.roxtonpond.ca/wp-content/uploads/2025/02/INSCRIPTIONS-SOCCER-2025-e1739806256696.png
END:VEVENT
BEGIN:VEVENT
DTSTART;TZID=America/Toronto:20250225T133000
DTEND;TZID=America/Toronto:20250225T160000
DTSTAMP:20260423T095836
CREATED:20250117T155508Z
LAST-MODIFIED:20250610T150537Z
UID:8976-1740490200-1740499200@www.roxtonpond.ca
SUMMARY:Les après-midi sociales
DESCRIPTION:Une nouveauté pour encourager les rencontres de toute sorte\, accessible à tous les âges\, dès le 21 janvier!\n\n\n\nTous les mardis\, de 13 h 30 à 16 h\, venez jouer à des jeux de société seul ou en groupe en haut du centre communautaire : Cartes\, Uno\, Dames\, Tock\, SkipBo\, Scrabble\, Yahtzee\, Échecs et plusieurs autres jeux seront à votre disposition! Vous pouvez même apporter vos propres jeux\, mais n’oubliez pas de les ramener à la fin de la journée. \n\n\n\nApportez votre tasse puisque du café sera offert sur place! \n\n\n\nSi vous avez envie de vous impliquer dans l’organisation de ces après-midi\, nous sommes à la recherche d’un petit comité qui saura veiller au bien-être des participants sur place. Vous pourrez donner votre nom en envoyant un courriel à EVENEMENTS@ROXTONPOND.CA \n\n\n\nIl s’agit d’une activité gratuite\, ouverte à tous. Invitez vos voisins et amis\, et partagez l’information!
URL:https://www.roxtonpond.ca/evenement/les-apres-midi-sociales/2025-02-25/
LOCATION:Centre communautaire\, 905\, rue Saint-Jean\, Roxton Pond\, Québec\, J0E 1Z0\, Canada
CATEGORIES:Loisirs et culture
ATTACH;FMTTYPE=image/png:https://www.roxtonpond.ca/wp-content/uploads/2025/01/Apres-midi-sociales-1-1-e1737129297586.png
END:VEVENT
END:VCALENDAR