BEGIN:VCALENDAR
VERSION:2.0
PRODID:-//Municipalité de Roxton Pond - ECPv5.9.2//NONSGML v1.0//EN
CALSCALE:GREGORIAN
METHOD:PUBLISH
X-WR-CALNAME:Municipalité de Roxton Pond
X-ORIGINAL-URL:https://www.roxtonpond.ca
X-WR-CALDESC:évènements pour Municipalité de Roxton Pond
BEGIN:VTIMEZONE
TZID:America/Toronto
BEGIN:DAYLIGHT
TZOFFSETFROM:-0500
TZOFFSETTO:-0400
TZNAME:EDT
DTSTART:20240310T070000
END:DAYLIGHT
BEGIN:STANDARD
TZOFFSETFROM:-0400
TZOFFSETTO:-0500
TZNAME:EST
DTSTART:20241103T060000
END:STANDARD
END:VTIMEZONE
BEGIN:VEVENT
DTSTART;TZID=America/Toronto:20241130T090000
DTEND;TZID=America/Toronto:20241130T150000
DTSTAMP:20260423T133700
CREATED:20240917T184003Z
LAST-MODIFIED:20241127T131219Z
UID:7444-1732957200-1732978800@www.roxtonpond.ca
SUMMARY:Remise de cadeaux et parade de Noël
DESCRIPTION:La journée tant attendue par toutes les familles pour célébrer le temps des fêtes est de retour! \n\nHORAIRE\n\nÀ partir de 9 h : Remise de cadeaux aux enfants de 0 à 10 ans\, de familles roxtonaises au centre communautaire (inscriptions terminées). \nÀ partir de 12 h 30 : Activités\, friandises et breuvages chauds au parc de l’Oie\, au parc Lacasse et à la Braoule! \nDépart à 13 h 30 : Parade de chars allégoriques et de chevaux costumés\, dans les rues de la municipalité. \n\nREMISE DE CADEAUX\n\nIl est important de respecter l’heure à laquelle l’enfant a été inscrit pour la remise de cadeaux. Rendez-vous au 905\, rue St-Jean pour rencontrer le Père-Noël et recevoir votre cadeau! Notez que les inscriptions sont maintenant terminées. \nINSCRIPTION CHAR ALLÉGORIQUE\nPour inscrire un char allégorique\, contactez Annie Patenaude par courriel à EVENEMENTS@ROXTONPOND.CA  \n\nINSCRIPTION CHEVAL COSTUMÉ\nPour inscrire un cheval costumé\, contactez les écuries Bienvenue : Kim Vallières 579 488-0717\, Lucie Vallières 450 521-1804\, Denis Monast 450 531-7801 \n\n 
URL:https://www.roxtonpond.ca/evenement/remise-de-cadeaux-et-parade-de-noel-2/
CATEGORIES:Loisirs et culture
ATTACH;FMTTYPE=image/png:https://www.roxtonpond.ca/wp-content/uploads/2024/09/Parade-de-Noel-SITE-WEB-e1726587673452.png
END:VEVENT
END:VCALENDAR