BEGIN:VCALENDAR
VERSION:2.0
PRODID:-//Municipalité de Roxton Pond - ECPv5.9.2//NONSGML v1.0//EN
CALSCALE:GREGORIAN
METHOD:PUBLISH
X-WR-CALNAME:Municipalité de Roxton Pond
X-ORIGINAL-URL:https://www.roxtonpond.ca
X-WR-CALDESC:évènements pour Municipalité de Roxton Pond
BEGIN:VTIMEZONE
TZID:America/Toronto
BEGIN:DAYLIGHT
TZOFFSETFROM:-0500
TZOFFSETTO:-0400
TZNAME:EDT
DTSTART:20240310T070000
END:DAYLIGHT
BEGIN:STANDARD
TZOFFSETFROM:-0400
TZOFFSETTO:-0500
TZNAME:EST
DTSTART:20241103T060000
END:STANDARD
END:VTIMEZONE
BEGIN:VEVENT
DTSTART;TZID=America/Toronto:20240601T090000
DTEND;TZID=America/Toronto:20240601T120000
DTSTAMP:20260423T192514
CREATED:20240527T190107Z
LAST-MODIFIED:20240527T190551Z
UID:6872-1717232400-1717243200@www.roxtonpond.ca
SUMMARY:Découverte Pickleball
DESCRIPTION:Le club de pickleball de Roxton Pond tiendra une journée découverte pour TOUS celles et ceux qui voudraient s’initier au pickleball! \nL’activité débute à 9 h et se termine à 12 h au parc des Sports. Les participants inscrits auront la chance d’apprendre les règles et les techniques de ce sport avec les membres du club de pickleball\, en plus de pouvoir pratiquer leurs apprentissages lors de parties deux contre deux. \n  \nLes raquette et les balles sont prêtées pour l’événement! \n  \ninscrivez-vous dès maintenant sur QIDIGO\, les places sont limitées.
URL:https://www.roxtonpond.ca/evenement/decouverte-pickleball-2/
LOCATION:Parc des Sports\, 70\, rue Gareau\, Roxton Pond\, Québec\, J0E 1Z0\, Canada
CATEGORIES:Loisirs et culture
ATTACH;FMTTYPE=image/png:https://www.roxtonpond.ca/wp-content/uploads/2024/05/Decouverte-pickleball-2024-SITE-WEB-e1716836743201.png
END:VEVENT
BEGIN:VEVENT
DTSTART;TZID=America/Toronto:20240608T080000
DTEND;TZID=America/Toronto:20240608T150000
DTSTAMP:20260423T192514
CREATED:20240215T195234Z
LAST-MODIFIED:20240527T190649Z
UID:6463-1717833600-1717858800@www.roxtonpond.ca
SUMMARY:FESTIVAL DE PÊCHE
DESCRIPTION:Le samedi 8 juin\, participez au festival de pêche annuel\, où les jeunes de 6 à 17 ans pourront être initiés à ce sport et obtenir un certificat qui leur permettra de pratiquer gratuitement jusqu’à leurs 18 ans!\n\nLes inscriptions débuteront à 8 h le samedi matin\, près du barrage municipal derrière l’école des Mésanges. Plusieurs petits groupes seront formés pour assister à une courte formation donnée par les membres du club de pêche de Roxton Pond\, puis ces groupes pourront mettre l’hameçon à l’eau pour attraper leurs poissons. \n\nUn dîner hot dog sera offert par la municipalité\, sur présentation du coupon remis à l’accueil de l’événement\, et plusieurs activités seront aussi accessibles pour les familles! \nN’oubliez pas d’apporter glace et glacière pour repartir avec vos prises! \nRestez à l’affût sur la page Facebook de la Municipalité et sur l’alerte citoyenne pour les prochaines informations!
URL:https://www.roxtonpond.ca/evenement/festival-de-peche-3/
LOCATION:École des Mésanges\, 676\, avenue du Lac\, Roxton Pond\, Québec\, J0E 1Z0\, Canada
CATEGORIES:Loisirs et culture
ATTACH;FMTTYPE=image/png:https://www.roxtonpond.ca/wp-content/uploads/2024/05/Festival-de-peche-2024-WEB-2-e1716836802528.png
END:VEVENT
BEGIN:VEVENT
DTSTART;TZID=America/Toronto:20240618T083000
DTEND;TZID=America/Toronto:20240618T100000
DTSTAMP:20260423T192514
CREATED:20240507T152819Z
LAST-MODIFIED:20240507T152819Z
UID:6877-1718699400-1718704800@www.roxtonpond.ca
SUMMARY:Toast Café
DESCRIPTION:Rendez-vous dès 8 h 30 au sous-sol du centre communautaire pour une matinée causerie avec le maire et d’autres compères! \nCet événement gratuit est pour les 55 ans et plus!
URL:https://www.roxtonpond.ca/evenement/toast-cafe-3/2024-06-18/
LOCATION:Centre communautaire\, 905\, rue Saint-Jean\, Roxton Pond\, Québec\, J0E 1Z0\, Canada
CATEGORIES:Loisirs et culture
ATTACH;FMTTYPE=image/png:https://www.roxtonpond.ca/wp-content/uploads/2023/12/Toast-Cafe-e1737129642336.png
END:VEVENT
BEGIN:VEVENT
DTSTART;TZID=America/Toronto:20240625T140000
DTEND;TZID=America/Toronto:20240625T223000
DTSTAMP:20260423T192514
CREATED:20240214T205910Z
LAST-MODIFIED:20240625T122336Z
UID:6451-1719324000-1719354600@www.roxtonpond.ca
SUMMARY:ST-JEAN-BAPTISTE
DESCRIPTION:PROGRAMMATION\n.\nPLAN DES STATIONNEMENTS\n.\n\nINFORMATIONS IMPORTANTES (recommandations et interdictions)\n\n\n.\nL’événement aura lieu à la plage municipale\, où vous pourrez assister à plusieurs spectacles de musique et manger une variété de nourriture offerte par des camions de rue.\n\nNous aurons la Boucherie des fermiers\, la Braoule\, le Cornet en cavale\, les Brasseurs de West Shefford et Ungava spiritueux! \n\nEn musique\, nous recevrons Nadia Waltz et son groupe dès 18 h\, puis PL Belval – Tailgate radio dès 20 h.\n\n\n\nDes activités familiales auront lieu tout l’après-midi\, beau temps\, mauvais temps\, et le classique feu d’artifice sera encore une fois lancé à partir du lac\, pour vous en mettre plein la vue et clore les festivités en beauté.\n.\n\n\nBATEAUX : \n\n L’accès à la descente de bateaux par la plage sera FERMÉ entre 14 h et 23 h le 25 juin 2024. Si vous voulez mettre votre bateau à l’eau par le quai de la plage\, vous devrez le faire avant 14 h\, puis vous devrez attendre à 23 h pour le sortir de l’eau.\n\n\n Vous ne pourrez pas laisser votre véhicule et remorque sur le terrain de la plage lors de l’événement. Les véhicules stationnés sur le terrain de la plage après 14 h seront remorqués.\n\n\n Vous pourrez accoster au quai de la plage pour un maximum de 15 minutes\, pour aller à la toilette ou pour aller chercher de la nourriture sur le site.\n\n\n Votre embarcation devra obligatoirement être munie de lumières\, que vous devrez allumer à la noirceur.\n\n\n Encore cette année\, les feux d’artifice seront lancés à partir d’une barge sur le lac. Il y aura donc un périmètre de sécurité à respecter. SVP\, restez à distance de la barge\, vous ne manquerez pas les feux d’artifice pour autant!\n\n\n\n.\n\n\nRestez à l’affût des prochaines informations sur la page Facebook de la Municipalité et sur l’alerte citoyenne!
URL:https://www.roxtonpond.ca/evenement/st-jean-baptiste/
LOCATION:Plage municipale de Roxton Pond\, 2069\, avenue du Lac Ouest\, Roxton Pond\, Québec\, J0E 1Z0\, Canada
CATEGORIES:Loisirs et culture
ATTACH;FMTTYPE=image/png:https://www.roxtonpond.ca/wp-content/uploads/2024/02/St-Jean-Baptiste-PANNEAU-3.png
END:VEVENT
END:VCALENDAR