BEGIN:VCALENDAR
VERSION:2.0
PRODID:-//Municipalité de Roxton Pond - ECPv5.9.2//NONSGML v1.0//EN
CALSCALE:GREGORIAN
METHOD:PUBLISH
X-WR-CALNAME:Municipalité de Roxton Pond
X-ORIGINAL-URL:https://www.roxtonpond.ca
X-WR-CALDESC:évènements pour Municipalité de Roxton Pond
BEGIN:VTIMEZONE
TZID:America/Toronto
BEGIN:DAYLIGHT
TZOFFSETFROM:-0500
TZOFFSETTO:-0400
TZNAME:EDT
DTSTART:20240310T070000
END:DAYLIGHT
BEGIN:STANDARD
TZOFFSETFROM:-0400
TZOFFSETTO:-0500
TZNAME:EST
DTSTART:20241103T060000
END:STANDARD
END:VTIMEZONE
BEGIN:VEVENT
DTSTART;TZID=America/Toronto:20240521T083000
DTEND;TZID=America/Toronto:20240521T100000
DTSTAMP:20260423T203104
CREATED:20240507T152819Z
LAST-MODIFIED:20240527T193339Z
UID:6779-1716280200-1716285600@www.roxtonpond.ca
SUMMARY:Toast Café
DESCRIPTION:Rendez-vous dès 8 h 30 au sous-sol du centre communautaire pour une matinée causerie avec le maire et d’autres compères! \nCet événement gratuit est pour les 55 ans et plus!
URL:https://www.roxtonpond.ca/evenement/toast-cafe-3/2024-05-21/
LOCATION:Centre communautaire\, 905\, rue Saint-Jean\, Roxton Pond\, Québec\, J0E 1Z0\, Canada
CATEGORIES:Loisirs et culture
ATTACH;FMTTYPE=image/png:https://www.roxtonpond.ca/wp-content/uploads/2023/12/Toast-Cafe-e1737129642336.png
END:VEVENT
BEGIN:VEVENT
DTSTART;TZID=America/Toronto:20240524T203000
DTEND;TZID=America/Toronto:20240524T210000
DTSTAMP:20260423T203104
CREATED:20240507T152152Z
LAST-MODIFIED:20240507T152324Z
UID:6774-1716582600-1716584400@www.roxtonpond.ca
SUMMARY:Spectacle ACUPUNK
DESCRIPTION:DÉFILÉ POÉTIQUE 🌎\n\n\n \n\n\nLe vendredi 24 mai dès 20 h 30\, venez assister à une prestation ayant pour thématique l’acupuncture de la terre pour la guérir de ses blessures\, mettant en mouvement Éria et Terrenis\, deux marionnettes géantes de 5\,5 mètres (18 pieds). 😱\n\n\n \n\n\nCette présentation de 25 minutes du Théâtre de la Dame de Cœur ❤️ prendra place sur la rue de l’Église\, qui sera fermée pour l’occasion. Pour ceux qui viendront en voiture\, vous êtes invités à vous stationner à gauche de l’église\, du côté du Gazebo et de la petite école.\n\n\n \n\n\nApportez vos chaises\, installez-vous confortablement dans le stationnement près du pavillon des Mésanges\, et laissez-vous emporter par cette performance novatrice et éclatante qui impressionnera petits et grands. 💫\n\n\n \n\n\nC’est un rendez-vous à ne pas manquer\, soyez à l’heure!
URL:https://www.roxtonpond.ca/evenement/spectacle-acupunk/
LOCATION:Rue de l’Église\, 940\, rue de l'Église\, Roxton Pond\, Québec\, J0E 1Z0\, Canada
CATEGORIES:Loisirs et culture
ATTACH;FMTTYPE=image/jpeg:https://www.roxtonpond.ca/wp-content/uploads/2024/05/Acupunk-e1715095363909.jpg
END:VEVENT
BEGIN:VEVENT
DTSTART;TZID=America/Toronto:20240525T100000
DTEND;TZID=America/Toronto:20240525T120000
DTSTAMP:20260423T203104
CREATED:20240507T183430Z
LAST-MODIFIED:20240507T183430Z
UID:6782-1716631200-1716638400@www.roxtonpond.ca
SUMMARY:DON D'ARBRES
DESCRIPTION:Encerclez le 25 mai à votre calendrier! 🤩\n\n\n \n\n\nEn ce mois de l’arbre et des forêts\, grâce entre autres au ministère des Ressources naturelles et des Forêts\, la municipalité est en mesure de vous faire don de pousses d’arbres encore cette année! \n\n\n \n\n\n🟩 De 10 h à 12 h le samedi 25 mai\, vous êtes invités à venir ramasser deux jeunes arbres chacun\, au centre communautaire. Ce don d’arbres est réservé aux résidents de Roxton Pond seulement. Premier arrivé\, premier servi! (bouleau jaune\, érable à sucre\, épinette blanche\, pin blanc\, pin rouge)🌳🌲\n\n\n \n\n\n🟩 Vous êtes encombrés de vivaces et ne savez plus comment vous en débarrasser? Laissez-nous les au passage! La municipalité ramassera les vivaces d’un peu partout afin de remplir des bacs à fleurs qui serviront à enjoliver les commerces et industries d’ici\, dans le cadre des Fleurons du Québec. \n\n\n \n\n\n🟩 Vous avez oublié de partir vos semis ces derniers mois? Pas de souci\, les Jardins des origines seront sur place pour vous en vendre de toutes les sortes! Vous pourrez donc alimenter vos jardins de produits cultivés chez nous\, à Roxton Pond. Bienvenu à tous!\n\n\n \n\n\n👉 25 mai\, de 10 h à 12 h\, au centre communautaire (905\, rue St-Jean\, Roxton Pond)
URL:https://www.roxtonpond.ca/evenement/don-darbres/
LOCATION:Centre communautaire\, 905\, rue Saint-Jean\, Roxton Pond\, Québec\, J0E 1Z0\, Canada
CATEGORIES:Loisirs et culture
ATTACH;FMTTYPE=image/png:https://www.roxtonpond.ca/wp-content/uploads/2024/05/Don-darbres-2024.png
END:VEVENT
END:VCALENDAR