BEGIN:VCALENDAR
VERSION:2.0
PRODID:-//Municipalité de Roxton Pond - ECPv5.9.2//NONSGML v1.0//EN
CALSCALE:GREGORIAN
METHOD:PUBLISH
X-WR-CALNAME:Municipalité de Roxton Pond
X-ORIGINAL-URL:https://www.roxtonpond.ca
X-WR-CALDESC:évènements pour Municipalité de Roxton Pond
BEGIN:VTIMEZONE
TZID:America/Toronto
BEGIN:DAYLIGHT
TZOFFSETFROM:-0500
TZOFFSETTO:-0400
TZNAME:EDT
DTSTART:20240310T070000
END:DAYLIGHT
BEGIN:STANDARD
TZOFFSETFROM:-0400
TZOFFSETTO:-0500
TZNAME:EST
DTSTART:20241103T060000
END:STANDARD
END:VTIMEZONE
BEGIN:VEVENT
DTSTART;TZID=America/Toronto:20240407T103000
DTEND;TZID=America/Toronto:20240407T140000
DTSTAMP:20260423T213056
CREATED:20231221T165913Z
LAST-MODIFIED:20240306T162508Z
UID:6221-1712485800-1712498400@www.roxtonpond.ca
SUMMARY:BRUNCH DES BECS SUCRÉS
DESCRIPTION:Le brunch des becs sucrés est de retour sous une nouvelle formule : Il n’y aura que des activités intérieures\, pour ceux qui seront présents au brunch.  \nAU MENU : Repas de cabane à sucre préparé et servi par l’érablière La Grillade\, chansonniers\, animation et maquillage pour enfants\, ainsi que plusieurs prix de présence! \nVous pourrez vous inscrire en ligne\, sur la plateforme Qidigo du 7 février au 26 mars. Vous pouvez aussi vous inscrire en remplissant un coupon papier\, directement à l’hôtel de ville. \nCOÛT D’ENTRÉE\n12 ans et plus : 17\,50$\n5 à 11 ans : 8\,00$\n0 à 4 ans : Gratuit \nLes inscriptions sont obligatoires\, même pour les bambins! Aucun remboursement ne sera effectué après le 26 mars. \n  \n  \n 
URL:https://www.roxtonpond.ca/evenement/brunch-des-becs-sucres/
LOCATION:Centre communautaire\, 905\, rue Saint-Jean\, Roxton Pond\, Québec\, J0E 1Z0\, Canada
CATEGORIES:Loisirs et culture
ATTACH;FMTTYPE=image/png:https://www.roxtonpond.ca/wp-content/uploads/2023/12/Brunch-des-becs-sucres-Site-Web-e1706889816398.png
END:VEVENT
BEGIN:VEVENT
DTSTART;VALUE=DATE:20240417
DTEND;VALUE=DATE:20240418
DTSTAMP:20260423T213056
CREATED:20240208T144029Z
LAST-MODIFIED:20240208T144054Z
UID:6409-1713312000-1713398399@www.roxtonpond.ca
SUMMARY:Inscription camp de jour 2024
DESCRIPTION:Les inscriptions pour le camp de jour débuteront dès 10 h\, le 17 avril 2024. \nElles se feront entièrement en ligne\, sur le site Web de la firme Gestion Vincent et Limoges. \n  \nC’EST PARTI!
URL:https://www.roxtonpond.ca/evenement/inscription-camp-de-jour-2024/
CATEGORIES:Loisirs et culture
ATTACH;FMTTYPE=image/png:https://www.roxtonpond.ca/wp-content/uploads/2024/02/Facebook-inscription_Roxton-Pond-2024-e1707403196465.png
END:VEVENT
BEGIN:VEVENT
DTSTART;TZID=America/Toronto:20240426T193000
DTEND;TZID=America/Toronto:20240426T223000
DTSTAMP:20260423T213056
CREATED:20240313T160051Z
LAST-MODIFIED:20240410T195514Z
UID:6576-1714159800-1714170600@www.roxtonpond.ca
SUMMARY:SOIRÉE D'ADOS
DESCRIPTION:Rester tout.e seul.e chez toi ça s’en vient long longtemps? T’as envie de voir tes amis ailleurs qu’à l’école? \nViens chiller au centre communautaire de Roxton Pond le 26 avril\, de 19 h 30 à 22 h 30. DJ Tiger sera là pour prendre tes demandes spéciales en chansons. Tu pourras acheter des snacks pas chers\, pas chers (argent comptant seulement) prendre des photos avec ta gang\, danser et chanter comme s’il n’y avait pas de lendemain\, et tout ça en créant des souvenirs d’une soirée mémorable : il y aura un PHOTOBOOTH qui te permettra de prendre et d’imprimer des photos sur place! \nUn événement gratuit\, organisé spécifiquement pour les jeunes de 13 à 17 ans. \nParent\, tu aimerais être chaperon.ne lors de la soirée? Envoie ton nom à evenements@roxtonpond.ca \n*L’alcool et les drogues sont interdites lors de la soirée.* \n  \nPlus d’infos suivront.
URL:https://www.roxtonpond.ca/evenement/soiree-dados/
LOCATION:Centre communautaire\, 905\, rue Saint-Jean\, Roxton Pond\, Québec\, J0E 1Z0\, Canada
CATEGORIES:Loisirs et culture
ATTACH;FMTTYPE=image/png:https://www.roxtonpond.ca/wp-content/uploads/2024/03/soiree-ados-26-avril-2024-WEB-e1710344093153.png
END:VEVENT
END:VCALENDAR