BEGIN:VCALENDAR
VERSION:2.0
PRODID:-//Municipalité de Roxton Pond - ECPv5.9.2//NONSGML v1.0//EN
CALSCALE:GREGORIAN
METHOD:PUBLISH
X-WR-CALNAME:Municipalité de Roxton Pond
X-ORIGINAL-URL:https://www.roxtonpond.ca
X-WR-CALDESC:évènements pour Municipalité de Roxton Pond
BEGIN:VTIMEZONE
TZID:America/Toronto
BEGIN:DAYLIGHT
TZOFFSETFROM:-0500
TZOFFSETTO:-0400
TZNAME:EDT
DTSTART:20250309T070000
END:DAYLIGHT
BEGIN:STANDARD
TZOFFSETFROM:-0400
TZOFFSETTO:-0500
TZNAME:EST
DTSTART:20251102T060000
END:STANDARD
END:VTIMEZONE
BEGIN:VEVENT
DTSTART;TZID=America/Toronto:20250623T170000
DTEND;TZID=America/Toronto:20250623T221500
DTSTAMP:20260419T142152
CREATED:20250512T202125Z
LAST-MODIFIED:20250616T171841Z
UID:8815-1750698000-1750716900@www.roxtonpond.ca
SUMMARY:Fête nationale du Québec
DESCRIPTION:Pour une troisième année consécutive\, la fête nationale du Québec à Roxton Pond prendra place à la plage municipale\, où vous pourrez vibrer au son de la musique québécoise\, en plus de manger une variété de nourriture offerte par des camions de rue. Nous aurons la chance d’avoir la Braoule et Cornet en cavale avec nous cette année! Il y aura aussi un bar sur place pour vous procurer vos consommations. La cantine de la plage sera spécialement ouverte le lundi pour vos fringales.  \nLa piscine sera ouverte de 12 h à 19 h et des jeux gonflables seront installés de 17 h à 20 h. \nL’hommage au drapeau se fera à 19 h 45 et sera suivi par le spectacle d’Eli Woods et son band dès 20 h. Les traditionnels feux d’artifice seront quant à eux lancés à partir d’une barge sur le lac vers 22 h pour clore les festivités en beauté. \nRAPPELS IMPORTANTS :\n \n \nINFORMATIONS BATEAUX :\n– Il ne sera pas permis de mettre de bateaux à l’eau ni de les sortir à partir de la plage entre 16 h et 23 h le jour de l’événement. \n– Aucun véhicule ni remorque ne pourront être laissés sur le terrain de la plage entre 16 h et 23 h le jour de l’événement (remorquage à vos frais). \n– Il sera possible d’accoster au quai de la plage pour un maximum de 15 minutes afin d’aller chercher à manger ou d’aller à la salle de bain. \n– Les embarcations sur le lac devront être munies de lumières\, qui devront obligatoirement être allumées à la noirceur. \n– Le périmètre de sécurité pour le lancement des feux d’artifice devra être respecté en tout temps. \n  \nSerez-vous des nôtres pour célébrer nos racines?
URL:https://www.roxtonpond.ca/evenement/fete-nationale-du-quebec/
LOCATION:Plage municipale de Roxton Pond\, 2069\, avenue du Lac Ouest\, Roxton Pond\, Québec\, J0E 1Z0\, Canada
CATEGORIES:Loisirs et culture
ATTACH;FMTTYPE=image/png:https://www.roxtonpond.ca/wp-content/uploads/2025/05/Fete-nationale-2025-WEB-1-e1747080744586.png
END:VEVENT
END:VCALENDAR