BEGIN:VCALENDAR
VERSION:2.0
PRODID:-//Municipalité de Roxton Pond - ECPv5.9.2//NONSGML v1.0//EN
CALSCALE:GREGORIAN
METHOD:PUBLISH
X-WR-CALNAME:Municipalité de Roxton Pond
X-ORIGINAL-URL:https://www.roxtonpond.ca
X-WR-CALDESC:évènements pour Municipalité de Roxton Pond
BEGIN:VTIMEZONE
TZID:America/Toronto
BEGIN:DAYLIGHT
TZOFFSETFROM:-0500
TZOFFSETTO:-0400
TZNAME:EDT
DTSTART:20250309T070000
END:DAYLIGHT
BEGIN:STANDARD
TZOFFSETFROM:-0400
TZOFFSETTO:-0500
TZNAME:EST
DTSTART:20251102T060000
END:STANDARD
END:VTIMEZONE
BEGIN:VEVENT
DTSTART;TZID=America/Toronto:20250304T100000
DTEND;TZID=America/Toronto:20250304T153000
DTSTAMP:20260421T054818
CREATED:20250225T140656Z
LAST-MODIFIED:20250225T140656Z
UID:8344-1741082400-1741102200@www.roxtonpond.ca
SUMMARY:Cinéma Relâche
DESCRIPTION:Vous ne savez pas quoi faire avec vos enfants pendant la relâche? Amenez-les au Cinéma Relâche au centre communautaire\, le mardi 4 mars! \n\n\n \n\n\n10 h : La guerre des tuques (en version animée – 2016)\n\n\n14 h : La petite et le vieux (2024)\n\n\n \n\n\nApportez vos chaises pour plus de confort! Popcorn et petits jus seront offerts gratuitement sur place jusqu’à épuisement des stocks. 🤩\n\n\n \n\n\nPssst… Vous n’avez pas d’enfant? Vous pouvez tout de même assister aux présentations des films! Sérieusement\, qui n’aime pas le cinéma gratuit…
URL:https://www.roxtonpond.ca/evenement/cinema-relache/
LOCATION:Centre communautaire\, 905\, rue Saint-Jean\, Roxton Pond\, Québec\, J0E 1Z0\, Canada
CATEGORIES:Loisirs et culture
ATTACH;FMTTYPE=image/png:https://www.roxtonpond.ca/wp-content/uploads/2025/02/Cinema-4-mars-2025-WEB-e1740492385441.png
END:VEVENT
BEGIN:VEVENT
DTSTART;TZID=America/Toronto:20250304T133000
DTEND;TZID=America/Toronto:20250304T160000
DTSTAMP:20260421T054818
CREATED:20250117T155508Z
LAST-MODIFIED:20250610T150537Z
UID:8977-1741095000-1741104000@www.roxtonpond.ca
SUMMARY:Les après-midi sociales
DESCRIPTION:Une nouveauté pour encourager les rencontres de toute sorte\, accessible à tous les âges\, dès le 21 janvier!\n\n\n\nTous les mardis\, de 13 h 30 à 16 h\, venez jouer à des jeux de société seul ou en groupe en haut du centre communautaire : Cartes\, Uno\, Dames\, Tock\, SkipBo\, Scrabble\, Yahtzee\, Échecs et plusieurs autres jeux seront à votre disposition! Vous pouvez même apporter vos propres jeux\, mais n’oubliez pas de les ramener à la fin de la journée. \n\n\n\nApportez votre tasse puisque du café sera offert sur place! \n\n\n\nSi vous avez envie de vous impliquer dans l’organisation de ces après-midi\, nous sommes à la recherche d’un petit comité qui saura veiller au bien-être des participants sur place. Vous pourrez donner votre nom en envoyant un courriel à EVENEMENTS@ROXTONPOND.CA \n\n\n\nIl s’agit d’une activité gratuite\, ouverte à tous. Invitez vos voisins et amis\, et partagez l’information!
URL:https://www.roxtonpond.ca/evenement/les-apres-midi-sociales/2025-03-04/
LOCATION:Centre communautaire\, 905\, rue Saint-Jean\, Roxton Pond\, Québec\, J0E 1Z0\, Canada
CATEGORIES:Loisirs et culture
ATTACH;FMTTYPE=image/png:https://www.roxtonpond.ca/wp-content/uploads/2025/01/Apres-midi-sociales-1-1-e1737129297586.png
END:VEVENT
BEGIN:VEVENT
DTSTART;TZID=America/Toronto:20250304T193000
DTEND;TZID=America/Toronto:20250304T210000
DTSTAMP:20260421T054818
CREATED:20250403T143522Z
LAST-MODIFIED:20260120T154509Z
UID:8550-1741116600-1741122000@www.roxtonpond.ca
SUMMARY:Séances du Conseil
DESCRIPTION:Nous vous invitons à venir assister aux séances du conseil municipal qui se déroulent le 1er mardi de chaque mois\, à compter de 19 h 30 à la salle du Conseil\, située à l’hôtel de ville de Roxton Pond (901\, rue Saint-Jean). Toute la population est invitée à y prendre part. \nCalendrier des séances 2026
URL:https://www.roxtonpond.ca/evenement/seances-du-conseil/2025-03-04/
LOCATION:Hôtel de ville\, 901\, rue Saint-Jean\, Roxton Pond\, Québec\, J0E 1Z0\, Canada
CATEGORIES:Séance du conseil
ATTACH;FMTTYPE=image/png:https://www.roxtonpond.ca/wp-content/uploads/2023/11/Seance-du-Conseil-e1700753076210.png
END:VEVENT
END:VCALENDAR